Name | Last modified | Size | Description | |
---|---|---|---|---|
Parent Directory | - | |||
buildbin-out.txt | 29-Mar-2024 00:39 | 4.2K | ||
buildbin-summary.dcf | 29-Mar-2024 00:39 | 585 | ||
buildsrc-out.txt | 29-Mar-2024 00:39 | 945 | ||
buildsrc-summary.dcf | 29-Mar-2024 00:39 | 453 | ||
checksrc-out.txt | 29-Mar-2024 00:39 | 5.3K | ||
checksrc-summary.dcf | 29-Mar-2024 00:39 | 480 | ||
install-out.txt | 29-Mar-2024 00:39 | 2.1K | ||
install-summary.dcf | 29-Mar-2024 00:39 | 287 | ||