Name | Last modified | Size | Description | |
---|---|---|---|---|
Parent Directory | - | |||
install-summary.dcf | 12-Jun-2024 04:43 | 287 | ||
buildsrc-summary.dcf | 12-Jun-2024 04:43 | 455 | ||
checksrc-summary.dcf | 12-Jun-2024 04:43 | 480 | ||
buildbin-summary.dcf | 12-Jun-2024 04:43 | 583 | ||
buildsrc-out.txt | 12-Jun-2024 04:43 | 945 | ||
install-out.txt | 12-Jun-2024 04:43 | 2.1K | ||
buildbin-out.txt | 12-Jun-2024 04:43 | 4.2K | ||
checksrc-out.txt | 12-Jun-2024 04:43 | 5.3K | ||