Index of /checkResults/devel/bioc-LATEST/R3CPET/raw-results
Name
Last modified
Size
Description
Parent Directory
-
info.dcf
04-May-2024 00:36
271
nebbiolo2/
04-May-2024 00:36
-
palomino4/
04-May-2024 00:37
-