Name | Last modified | Size | Description | |
---|---|---|---|---|
Parent Directory | - | |||
buildbin-out.txt | 28-Jul-2024 00:40 | 11K | ||
buildbin-summary.dcf | 28-Jul-2024 00:40 | 504 | ||
buildsrc-out.txt | 28-Jul-2024 00:40 | 930 | ||
buildsrc-summary.dcf | 28-Jul-2024 00:40 | 444 | ||
checksrc-out.txt | 28-Jul-2024 00:40 | 5.8K | ||
checksrc-summary.dcf | 28-Jul-2024 00:40 | 445 | ||
install-out.txt | 28-Jul-2024 00:40 | 11K | ||
install-summary.dcf | 28-Jul-2024 00:40 | 265 | ||