Name | Last modified | Size | Description | |
---|---|---|---|---|
Parent Directory | - | |||
buildbin-out.txt | 17-Jul-2024 00:41 | 11K | ||
install-out.txt | 17-Jul-2024 00:41 | 11K | ||
checksrc-out.txt | 17-Jul-2024 00:41 | 5.8K | ||
buildsrc-out.txt | 17-Jul-2024 00:41 | 936 | ||
buildbin-summary.dcf | 17-Jul-2024 00:41 | 509 | ||
checksrc-summary.dcf | 17-Jul-2024 00:41 | 457 | ||
buildsrc-summary.dcf | 17-Jul-2024 00:41 | 450 | ||
install-summary.dcf | 17-Jul-2024 00:41 | 270 | ||