Name | Last modified | Size | Description | |
---|---|---|---|---|
Parent Directory | - | |||
install-out.txt | 28-Jul-2024 00:39 | 6.6K | ||
checksrc-out.txt | 28-Jul-2024 00:39 | 5.2K | ||
buildsrc-out.txt | 28-Jul-2024 00:39 | 924 | ||
buildsrc-summary.dcf | 28-Jul-2024 00:39 | 418 | ||
checksrc-summary.dcf | 28-Jul-2024 00:39 | 412 | ||
install-summary.dcf | 28-Jul-2024 00:39 | 255 | ||