Name | Last modified | Size | Description | |
---|---|---|---|---|
Parent Directory | - | |||
buildbin-out.txt | 28-Jul-2024 00:42 | 11K | ||
buildbin-summary.dcf | 28-Jul-2024 00:42 | 518 | ||
buildsrc-out.txt | 28-Jul-2024 00:42 | 910 | ||
buildsrc-summary.dcf | 28-Jul-2024 00:42 | 422 | ||
checksrc-out.txt | 28-Jul-2024 00:42 | 5.3K | ||
checksrc-summary.dcf | 28-Jul-2024 00:42 | 442 | ||
install-out.txt | 28-Jul-2024 00:42 | 9.1K | ||
install-summary.dcf | 28-Jul-2024 00:42 | 265 | ||