Back to Multiple platform build/check report for BioC 3.13 |
|
This page was generated on 2021-01-17 12:34:58 -0500 (Sun, 17 Jan 2021).
TO THE DEVELOPERS/MAINTAINERS OF THE QSutils PACKAGE: Please make sure to use the following settings in order to reproduce any error or warning you see on this page. |
Package 1395/1931 | Hostname | OS / Arch | INSTALL | BUILD | CHECK | BUILD BIN | ||||||
QSutils 1.9.0 Mercedes Guerrero-Murillo
| malbec2 | Linux (Ubuntu 20.04.1 LTS) / x86_64 | OK | OK | OK | ![]() | ||||||
tokay2 | Windows Server 2012 R2 Standard / x64 | OK | [ OK ] | OK | OK | ![]() | ||||||
riesling1 | Windows Server 2019 Standard / x64 | OK | OK | OK | OK | |||||||
machv2 | macOS 10.14.6 Mojave / x86_64 | OK | OK | OK | OK | ![]() |
Package: QSutils |
Version: 1.9.0 |
Command: chmod a+r QSutils -R && C:\Users\biocbuild\bbs-3.13-bioc\R\bin\R.exe CMD build --keep-empty-dirs --no-resave-data QSutils |
StartedAt: 2021-01-17 00:19:38 -0500 (Sun, 17 Jan 2021) |
EndedAt: 2021-01-17 00:21:11 -0500 (Sun, 17 Jan 2021) |
EllapsedTime: 92.7 seconds |
RetCode: 0 |
Status: OK |
PackageFile: QSutils_1.9.0.tar.gz |
PackageFileSize: 1.043 MiB |
############################################################################## ############################################################################## ### ### Running command: ### ### chmod a+r QSutils -R && C:\Users\biocbuild\bbs-3.13-bioc\R\bin\R.exe CMD build --keep-empty-dirs --no-resave-data QSutils ### ############################################################################## ############################################################################## * checking for file 'QSutils/DESCRIPTION' ... OK * preparing 'QSutils': * checking DESCRIPTION meta-information ... OK * installing the package to process help pages * saving partial Rd database * creating vignettes ... OK * checking for LF line-endings in source and make files and shell scripts * checking for empty or unneeded directories * building 'QSutils_1.9.0.tar.gz'