Back to Multiple platform build/check report for BioC 3.13 |
|
This page was generated on 2021-01-17 12:34:58 -0500 (Sun, 17 Jan 2021).
TO THE DEVELOPERS/MAINTAINERS OF THE QSutils PACKAGE: Please make sure to use the following settings in order to reproduce any error or warning you see on this page. |
Package 1395/1931 | Hostname | OS / Arch | INSTALL | BUILD | CHECK | BUILD BIN | ||||||
QSutils 1.9.0 Mercedes Guerrero-Murillo
| malbec2 | Linux (Ubuntu 20.04.1 LTS) / x86_64 | OK | OK | OK | ![]() | ||||||
tokay2 | Windows Server 2012 R2 Standard / x64 | OK | OK | OK | [ OK ] | ![]() | ||||||
riesling1 | Windows Server 2019 Standard / x64 | OK | OK | OK | OK | |||||||
machv2 | macOS 10.14.6 Mojave / x86_64 | OK | OK | OK | OK | ![]() |
Package: QSutils |
Version: 1.9.0 |
Command: rm -rf QSutils.buildbin-libdir && mkdir QSutils.buildbin-libdir && C:\Users\biocbuild\bbs-3.13-bioc\R\bin\R.exe CMD INSTALL --merge-multiarch --build --library=QSutils.buildbin-libdir QSutils_1.9.0.tar.gz |
StartedAt: 2021-01-17 11:48:33 -0500 (Sun, 17 Jan 2021) |
EndedAt: 2021-01-17 11:49:01 -0500 (Sun, 17 Jan 2021) |
EllapsedTime: 27.8 seconds |
RetCode: 0 |
Status: OK |
PackageFile: QSutils_1.9.0.zip |
PackageFileSize: 1.231 MiB |
############################################################################## ############################################################################## ### ### Running command: ### ### rm -rf QSutils.buildbin-libdir && mkdir QSutils.buildbin-libdir && C:\Users\biocbuild\bbs-3.13-bioc\R\bin\R.exe CMD INSTALL --merge-multiarch --build --library=QSutils.buildbin-libdir QSutils_1.9.0.tar.gz ### ############################################################################## ############################################################################## install for i386 * installing *source* package 'QSutils' ... ** using staged installation ** R ** inst ** byte-compile and prepare package for lazy loading ** help *** installing help indices converting help for package 'QSutils' finding HTML links ... done Collapse html REDIRECT:topic Collapse -> Collapse.html [ SUCCESS ] REDIRECT:topic Recollapse -> Collapse.html [ SUCCESS ] ConsSeq html REDIRECT:topic ConsSeq -> ConsSeq.html [ SUCCESS ] CorrectGapsAndNs html REDIRECT:topic CorrectGapsAndNs -> CorrectGapsAndNs.html [ SUCCESS ] DBrule html REDIRECT:topic DBrule -> DBrule.html [ SUCCESS ] DNA.dist html REDIRECT:topic DNA.dist -> DNA.dist.html [ SUCCESS ] DSFT html REDIRECT:topic DSFT -> DSFT.html [ SUCCESS ] Diverge html REDIRECT:topic Diverge -> Diverge.html [ SUCCESS ] DottedAlignment html REDIRECT:topic DottedAlignment -> DottedAlignment.html [ SUCCESS ] FAD html REDIRECT:topic FAD -> FAD.html [ SUCCESS ] FreqMat html REDIRECT:topic FreqMat -> FreqMat.html [ SUCCESS ] GenerateVars html REDIRECT:topic GenerateVars -> GenerateVars.html [ SUCCESS ] GenotypeStandards_A-H.fas html REDIRECT:topic GenotypeStandards_A-H.fas -> GenotypeStandards_A-H.fas.html [ SUCCESS ] GetInfProfile html REDIRECT:topic GetInfProfile -> GetInfProfile.html [ SUCCESS ] GetQSData html REDIRECT:topic GetQSData -> GetQSData.html [ SUCCESS ] GetRandomSeq html REDIRECT:topic GetRandomSeq -> GetRandomSeq.html [ SUCCESS ] GiniSimpson html REDIRECT:topic GiniSimpson -> GiniSimpson.html [ SUCCESS ] REDIRECT:topic GiniSimpsonMVUE -> GiniSimpson.html [ SUCCESS ] REDIRECT:topic GiniSimpsonVar -> GiniSimpson.html [ SUCCESS ] HCq html REDIRECT:topic HCq -> HCq.html [ SUCCESS ] REDIRECT:topic HCqVar -> HCq.html [ SUCCESS ] REDIRECT:topic HCqProfile -> HCq.html [ SUCCESS ] Hill html REDIRECT:topic Hill -> Hill.html [ SUCCESS ] REDIRECT:topic HillProfile -> Hill.html [ SUCCESS ] IntersectStrandHpls html REDIRECT:topic IntersectStrandHpls -> IntersectStrandHpls.html [ SUCCESS ] MutationFreq html REDIRECT:topic MutationFreq -> MutationFreq.html [ SUCCESS ] REDIRECT:topic MutationFreqVar -> MutationFreq.html [ SUCCESS ] MutsTbl html REDIRECT:topic MutsTbl -> MutsTbl.html [ SUCCESS ] NucleotideDiversity html REDIRECT:topic NucleotideDiversity -> NucleotideDiversity.html [ SUCCESS ] PolyDist html REDIRECT:topic PolyDist -> PolyDist.html [ SUCCESS ] QSutils-package html REDIRECT:topic QSutils-package -> QSutils-package.html [ SUCCESS ] REDIRECT:topic QSutils -> QSutils-package.html [ SUCCESS ] Rao html REDIRECT:topic Rao -> Rao.html [ SUCCESS ] REDIRECT:topic RaoVar -> Rao.html [ SUCCESS ] REDIRECT:topic RaoPow -> Rao.html [ SUCCESS ] REDIRECT:topic RaoPowProfile -> Rao.html [ SUCCESS ] ReadAmplSeqs html REDIRECT:topic ReadAmplSeqs -> ReadAmplSeqs.html [ SUCCESS ] Renyi html REDIRECT:topic Renyi -> Renyi.html [ SUCCESS ] REDIRECT:topic RenyiProfile -> Renyi.html [ SUCCESS ] ReportVariants html REDIRECT:topic ReportVariants -> ReportVariants.html [ SUCCESS ] SegSites html REDIRECT:topic SegSites -> SegSites.html [ SUCCESS ] Shannon html REDIRECT:topic Shannon -> Shannon.html [ SUCCESS ] REDIRECT:topic ShannonVar -> Shannon.html [ SUCCESS ] REDIRECT:topic NormShannon -> Shannon.html [ SUCCESS ] REDIRECT:topic NormShannonVar -> Shannon.html [ SUCCESS ] SortByMutations html REDIRECT:topic SortByMutations -> SortByMutations.html [ SUCCESS ] SummaryMuts html REDIRECT:topic SummaryMuts -> SummaryMuts.html [ SUCCESS ] TotalMutations html REDIRECT:topic TotalMutations -> TotalMutations.html [ SUCCESS ] Toy.GapsAndNs.fna html REDIRECT:topic Toy.GapsAndNs.fna -> Toy.GapsAndNs.fna.html [ SUCCESS ] ToyData_10_50_1000.fna html REDIRECT:topic ToyData_10_50_1000.fna -> ToyData_10_50_1000.fna.html [ SUCCESS ] ToyData_FWReads.fna html REDIRECT:topic ToyData_FWReads.fna -> ToyData_FWReads.fna.html [ SUCCESS ] ToyData_RVReads.fna html REDIRECT:topic ToyData_RVReads.fna -> ToyData_RVReads.fna.html [ SUCCESS ] UniqueMutations html REDIRECT:topic UniqueMutations -> UniqueMutations.html [ SUCCESS ] Unknown-Genotype.fna html REDIRECT:topic Unknown-Genotype.fna -> Unknown-Genotype.fna.html [ SUCCESS ] fn.ab html REDIRECT:topic fn.ab -> fn.ab.html [ SUCCESS ] geom.series html REDIRECT:topic geom.series -> geom.series.html [ SUCCESS ] ** building package indices ** installing vignettes ** testing if installed package can be loaded from temporary location ** testing if installed package can be loaded from final location ** testing if installed package keeps a record of temporary installation path install for x64 * installing *source* package 'QSutils' ... ** testing if installed package can be loaded * MD5 sums packaged installation of 'QSutils' as QSutils_1.9.0.zip * DONE (QSutils)