Back to Multiple platform build/check report for BioC 3.13
ABCDEFGHIJKLMNOP[Q]RSTUVWXYZ

BUILD report for QSutils on riesling1

This page was generated on 2020-11-23 12:27:32 -0500 (Mon, 23 Nov 2020).

TO THE DEVELOPERS/MAINTAINERS OF THE QSutils PACKAGE: Please make sure to use the following settings in order to reproduce any error or warning you see on this page.
Package 1380/1907HostnameOS / ArchINSTALLBUILDCHECKBUILD BIN
QSutils 1.9.0
Mercedes Guerrero-Murillo
Snapshot Date: 2020-11-22 14:40:22 -0500 (Sun, 22 Nov 2020)
URL: https://git.bioconductor.org/packages/QSutils
Branch: master
Last Commit: a1e3237
Last Changed Date: 2020-10-27 11:39:52 -0500 (Tue, 27 Oct 2020)
malbec2 Linux (Ubuntu 20.04.1 LTS) / x86_64  OK  OK  OK UNNEEDED, same version exists in internal repository
tokay2 Windows Server 2012 R2 Standard / x64  OK  OK  OK  OK UNNEEDED, same version exists in internal repository
riesling1 Windows Server 2019 Standard / x64  OK [ OK ] OK  OK 
machv2 macOS 10.14.6 Mojave / x86_64  OK  OK  OK  OK UNNEEDED, same version exists in internal repository

Summary

Package: QSutils
Version: 1.9.0
Command: chmod a+r QSutils -R && D:\biocbuild\bbs-3.13-bioc\R\bin\R.exe CMD build --keep-empty-dirs --no-resave-data QSutils
StartedAt: 2020-11-22 18:43:06 -0500 (Sun, 22 Nov 2020)
EndedAt: 2020-11-22 18:45:47 -0500 (Sun, 22 Nov 2020)
EllapsedTime: 161.1 seconds
RetCode: 0
Status:  OK  
PackageFile: QSutils_1.9.0.tar.gz
PackageFileSize: 1.064 MiB

Command output

##############################################################################
##############################################################################
###
### Running command:
###
###   chmod a+r QSutils -R && D:\biocbuild\bbs-3.13-bioc\R\bin\R.exe CMD build --keep-empty-dirs --no-resave-data QSutils
###
##############################################################################
##############################################################################


* checking for file 'QSutils/DESCRIPTION' ... OK
* preparing 'QSutils':
* checking DESCRIPTION meta-information ... OK
* installing the package to process help pages
* saving partial Rd database
* creating vignettes ... OK
* checking for LF line-endings in source and make files and shell scripts
* checking for empty or unneeded directories
* building 'QSutils_1.9.0.tar.gz'