Back to Multiple platform build/check report for BioC 3.13 |
|
This page was generated on 2021-01-17 12:39:45 -0500 (Sun, 17 Jan 2021).
TO THE DEVELOPERS/MAINTAINERS OF THE QSutils PACKAGE: Please make sure to use the following settings in order to reproduce any error or warning you see on this page. |
Package 1395/1931 | Hostname | OS / Arch | INSTALL | BUILD | CHECK | BUILD BIN | ||||||
QSutils 1.9.0 Mercedes Guerrero-Murillo
| malbec2 | Linux (Ubuntu 20.04.1 LTS) / x86_64 | OK | OK | OK | ![]() | ||||||
tokay2 | Windows Server 2012 R2 Standard / x64 | OK | OK | OK | OK | ![]() | ||||||
riesling1 | Windows Server 2019 Standard / x64 | OK | OK | OK | OK | |||||||
machv2 | macOS 10.14.6 Mojave / x86_64 | OK | OK | [ OK ] | OK | ![]() |
Package: QSutils |
Version: 1.9.0 |
Command: /Library/Frameworks/R.framework/Versions/Current/Resources/bin/R CMD check --install=check:QSutils.install-out.txt --library=/Library/Frameworks/R.framework/Versions/Current/Resources/library --no-vignettes --timings QSutils_1.9.0.tar.gz |
StartedAt: 2021-01-17 03:29:37 -0500 (Sun, 17 Jan 2021) |
EndedAt: 2021-01-17 03:31:16 -0500 (Sun, 17 Jan 2021) |
EllapsedTime: 99.1 seconds |
RetCode: 0 |
Status: OK |
CheckDir: QSutils.Rcheck |
Warnings: 0 |
############################################################################## ############################################################################## ### ### Running command: ### ### /Library/Frameworks/R.framework/Versions/Current/Resources/bin/R CMD check --install=check:QSutils.install-out.txt --library=/Library/Frameworks/R.framework/Versions/Current/Resources/library --no-vignettes --timings QSutils_1.9.0.tar.gz ### ############################################################################## ############################################################################## * using log directory ‘/Users/biocbuild/bbs-3.13-bioc/meat/QSutils.Rcheck’ * using R Under development (unstable) (2021-01-06 r79800) * using platform: x86_64-apple-darwin17.0 (64-bit) * using session charset: UTF-8 * using option ‘--no-vignettes’ * checking for file ‘QSutils/DESCRIPTION’ ... OK * checking extension type ... Package * this is package ‘QSutils’ version ‘1.9.0’ * package encoding: UTF-8 * checking package namespace information ... OK * checking package dependencies ... OK * checking if this is a source package ... OK * checking if there is a namespace ... OK * checking for hidden files and directories ... NOTE Found the following hidden files and directories: .git_fetch_output.txt .git_merge_output.txt These were most likely included in error. See section ‘Package structure’ in the ‘Writing R Extensions’ manual. * checking for portable file names ... OK * checking for sufficient/correct file permissions ... OK * checking whether package ‘QSutils’ can be installed ... OK * checking installed package size ... OK * checking package directory ... OK * checking ‘build’ directory ... OK * checking DESCRIPTION meta-information ... OK * checking top-level files ... OK * checking for left-over files ... OK * checking index information ... OK * checking package subdirectories ... OK * checking R files for non-ASCII characters ... OK * checking R files for syntax errors ... OK * checking whether the package can be loaded ... OK * checking whether the package can be loaded with stated dependencies ... OK * checking whether the package can be unloaded cleanly ... OK * checking whether the namespace can be loaded with stated dependencies ... OK * checking whether the namespace can be unloaded cleanly ... OK * checking dependencies in R code ... OK * checking S3 generic/method consistency ... OK * checking replacement functions ... OK * checking foreign function calls ... OK * checking R code for possible problems ... OK * checking Rd files ... OK * checking Rd metadata ... OK * checking Rd cross-references ... OK * checking for missing documentation entries ... OK * checking for code/documentation mismatches ... OK * checking Rd \usage sections ... OK * checking Rd contents ... OK * checking for unstated dependencies in examples ... OK * checking files in ‘vignettes’ ... OK * checking examples ... OK * checking for unstated dependencies in vignettes ... OK * checking package vignettes in ‘inst/doc’ ... OK * checking running R code from vignettes ... SKIPPED * checking re-building of vignette outputs ... SKIPPED * checking PDF version of manual ... OK * DONE Status: 1 NOTE See ‘/Users/biocbuild/bbs-3.13-bioc/meat/QSutils.Rcheck/00check.log’ for details.
QSutils.Rcheck/00install.out
############################################################################## ############################################################################## ### ### Running command: ### ### /Library/Frameworks/R.framework/Versions/Current/Resources/bin/R CMD INSTALL QSutils ### ############################################################################## ############################################################################## * installing to library ‘/Library/Frameworks/R.framework/Versions/4.1/Resources/library’ * installing *source* package ‘QSutils’ ... ** using staged installation ** R ** inst ** byte-compile and prepare package for lazy loading ** help *** installing help indices ** building package indices ** installing vignettes ** testing if installed package can be loaded from temporary location ** testing if installed package can be loaded from final location ** testing if installed package keeps a record of temporary installation path * DONE (QSutils)
QSutils.Rcheck/QSutils-Ex.timings
name | user | system | elapsed | |
Collapse | 0.343 | 0.005 | 0.348 | |
ConsSeq | 0.024 | 0.001 | 0.026 | |
CorrectGapsAndNs | 0.006 | 0.002 | 0.007 | |
DBrule | 0.059 | 0.006 | 0.065 | |
DNA.dist | 0.011 | 0.002 | 0.014 | |
DSFT | 0.006 | 0.001 | 0.007 | |
Diverge | 0.003 | 0.000 | 0.004 | |
DottedAlignment | 0.009 | 0.001 | 0.010 | |
FAD | 0.007 | 0.001 | 0.008 | |
FreqMat | 0.019 | 0.005 | 0.024 | |
GenerateVars | 0.004 | 0.001 | 0.005 | |
GenotypeStandards_A-H.fas | 0.007 | 0.001 | 0.008 | |
GetInfProfile | 0.022 | 0.004 | 0.026 | |
GetQSData | 0.543 | 0.037 | 0.580 | |
GetRandomSeq | 0 | 0 | 0 | |
GiniSimpson | 0.001 | 0.001 | 0.001 | |
HCq | 0.005 | 0.001 | 0.006 | |
Hill | 0.004 | 0.001 | 0.005 | |
IntersectStrandHpls | 0.121 | 0.005 | 0.128 | |
MutationFreq | 0.595 | 0.083 | 0.679 | |
MutsTbl | 0.018 | 0.003 | 0.021 | |
NucleotideDiversity | 0.007 | 0.000 | 0.008 | |
PolyDist | 0.032 | 0.001 | 0.033 | |
Rao | 0.013 | 0.001 | 0.014 | |
ReadAmplSeqs | 0.026 | 0.001 | 0.028 | |
Renyi | 0.004 | 0.000 | 0.004 | |
ReportVariants | 0.019 | 0.001 | 0.020 | |
SegSites | 0.011 | 0.001 | 0.011 | |
Shannon | 0.001 | 0.001 | 0.001 | |
SortByMutations | 0.562 | 0.026 | 0.589 | |
SummaryMuts | 0.029 | 0.001 | 0.031 | |
TotalMutations | 0.021 | 0.000 | 0.023 | |
Toy.GapsAndNs.fna | 0.076 | 0.004 | 0.080 | |
ToyData_10_50_1000.fna | 0.041 | 0.003 | 0.043 | |
ToyData_FWReads.fna | 0.129 | 0.005 | 0.135 | |
ToyData_RVReads.fna | 0.093 | 0.007 | 0.100 | |
UniqueMutations | 0.013 | 0.001 | 0.014 | |
Unknown-Genotype.fna | 0.018 | 0.002 | 0.020 | |
fn.ab | 0.004 | 0.001 | 0.006 | |
geom.series | 0.005 | 0.001 | 0.006 | |