Back to Multiple platform build/check report for BioC 3.13 |
|
This page was generated on 2021-01-17 12:39:45 -0500 (Sun, 17 Jan 2021).
TO THE DEVELOPERS/MAINTAINERS OF THE QSutils PACKAGE: Please make sure to use the following settings in order to reproduce any error or warning you see on this page. |
Package 1395/1931 | Hostname | OS / Arch | INSTALL | BUILD | CHECK | BUILD BIN | ||||||
QSutils 1.9.0 Mercedes Guerrero-Murillo
| malbec2 | Linux (Ubuntu 20.04.1 LTS) / x86_64 | OK | OK | OK | ![]() | ||||||
tokay2 | Windows Server 2012 R2 Standard / x64 | OK | OK | OK | OK | ![]() | ||||||
riesling1 | Windows Server 2019 Standard / x64 | OK | OK | OK | OK | |||||||
machv2 | macOS 10.14.6 Mojave / x86_64 | OK | OK | OK | [ OK ] | ![]() |
Package: QSutils |
Version: 1.9.0 |
Command: rm -rf QSutils.buildbin-libdir && mkdir QSutils.buildbin-libdir && /Users/biocbuild/BBS/utils/build-universal.sh QSutils_1.9.0.tar.gz /Library/Frameworks/R.framework/Versions/Current/Resources/bin/R QSutils.buildbin-libdir |
StartedAt: 2021-01-17 06:41:41 -0500 (Sun, 17 Jan 2021) |
EndedAt: 2021-01-17 06:41:54 -0500 (Sun, 17 Jan 2021) |
EllapsedTime: 13.3 seconds |
RetCode: 0 |
Status: OK |
PackageFile: QSutils_1.9.0.tgz |
PackageFileSize: 1.084 MiB |
############################################################################## ############################################################################## ### ### Running command: ### ### rm -rf QSutils.buildbin-libdir && mkdir QSutils.buildbin-libdir && /Users/biocbuild/BBS/utils/build-universal.sh QSutils_1.9.0.tar.gz /Library/Frameworks/R.framework/Versions/Current/Resources/bin/R QSutils.buildbin-libdir ### ############################################################################## ############################################################################## >>>>>>> >>>>>>> INSTALLATION WITH 'R CMD INSTALL --preclean --no-multiarch --library=QSutils.buildbin-libdir QSutils_1.9.0.tar.gz' >>>>>>> * installing *source* package ‘QSutils’ ... ** using staged installation ** R ** inst ** byte-compile and prepare package for lazy loading ** help *** installing help indices ** building package indices ** installing vignettes ** testing if installed package can be loaded from temporary location ** testing if installed package can be loaded from final location ** testing if installed package keeps a record of temporary installation path * DONE (QSutils)