Name | Last modified | Size | Description | |
---|---|---|---|---|
Parent Directory | - | |||
install-out.txt | 12-Jul-2024 01:00 | 1.0K | ||
install-summary.dcf | 12-Jul-2024 01:00 | 278 | ||
buildsrc-summary.dcf | 12-Jul-2024 01:00 | 467 | ||
buildsrc-out.txt | 12-Jul-2024 01:00 | 915 | ||
checksrc-out.txt | 12-Jul-2024 01:00 | 3.7K | ||
checksrc-summary.dcf | 12-Jul-2024 01:00 | 467 | ||
buildbin-summary.dcf | 12-Jul-2024 01:00 | 533 | ||
buildbin-out.txt | 12-Jul-2024 01:00 | 1.2K | ||