Name | Last modified | Size | Description | |
---|---|---|---|---|
Parent Directory | - | |||
buildbin-out.txt | 12-Jun-2024 04:41 | 1.1K | ||
buildbin-summary.dcf | 12-Jun-2024 04:41 | 515 | ||
buildsrc-out.txt | 12-Jun-2024 04:41 | 899 | ||
buildsrc-summary.dcf | 12-Jun-2024 04:41 | 453 | ||
checksrc-out.txt | 12-Jun-2024 04:41 | 3.9K | ||
checksrc-summary.dcf | 12-Jun-2024 04:41 | 447 | ||
install-out.txt | 12-Jun-2024 04:41 | 971 | ||
install-summary.dcf | 12-Jun-2024 04:41 | 268 | ||