Back to Multiple platform build/check report for BioC 3.15
ABCDEFGHIJKLMNO[P]QRSTUVWXYZ

This page was generated on 2022-01-21 11:08:19 -0500 (Fri, 21 Jan 2022).

HostnameOSArch (*)R versionInstalled pkgs
nebbiolo1Linux (Ubuntu 20.04.4 LTS)x86_64R Under development (unstable) (2022-01-05 r81451) -- "Unsuffered Consequences" 4163
riesling1Windows Server 2019 Standardx64R Under development (unstable) (2021-11-21 r81221) -- "Unsuffered Consequences" 4058
palomino3Windows Server 2022 Datacenterx64R Under development (unstable) (2021-12-21 r81400 ucrt) -- "Unsuffered Consequences" 4000
merida1macOS 10.14.6 Mojavex86_64R Under development (unstable) (2022-01-05 r81451) -- "Unsuffered Consequences" 4117
Click on any hostname to see more info about the system (e.g. compilers)      (*) as reported by 'uname -p', except on Windows and Mac OS X

INSTALL results for PureCN on riesling1


To the developers/maintainers of the PureCN package:
- Please allow up to 24 hours (and sometimes 48 hours) for your latest push to git@git.bioconductor.org:packages/PureCN.git to
reflect on this report. See How and When does the builder pull? When will my changes propagate? here for more information.
- Make sure to use the following settings in order to reproduce any error or warning you see on this page.

raw results

Package 1481/2075HostnameOS / ArchINSTALLBUILDCHECKBUILD BIN
PureCN 2.1.6  (landing page)
Markus Riester
Snapshot Date: 2022-01-20 13:55:17 -0500 (Thu, 20 Jan 2022)
git_url: https://git.bioconductor.org/packages/PureCN
git_branch: master
git_last_commit: 26f9dbb
git_last_commit_date: 2021-12-22 15:47:20 -0500 (Wed, 22 Dec 2021)
nebbiolo1Linux (Ubuntu 20.04.4 LTS) / x86_64  OK    OK    OK  UNNEEDED, same version is already published
riesling1Windows Server 2019 Standard / x64  OK    OK    OK    OK  
palomino3Windows Server 2022 Datacenter / x64  OK    OK    OK    OK  NO, package depends on 'VariantAnnotation' which is not available
merida1macOS 10.14.6 Mojave / x86_64  OK    OK    OK    OK  UNNEEDED, same version is already published

Summary

Package: PureCN
Version: 2.1.6
Command: D:\biocbuild\bbs-3.15-bioc\R\bin\R.exe CMD INSTALL PureCN
StartedAt: 2022-01-20 16:02:34 -0500 (Thu, 20 Jan 2022)
EndedAt: 2022-01-20 16:03:28 -0500 (Thu, 20 Jan 2022)
EllapsedTime: 54.0 seconds
RetCode: 0
Status:   OK  

Command output

##############################################################################
##############################################################################
###
### Running command:
###
###   D:\biocbuild\bbs-3.15-bioc\R\bin\R.exe CMD INSTALL PureCN
###
##############################################################################
##############################################################################


* installing to library 'D:/biocbuild/bbs-3.15-bioc/R/library'
* installing *source* package 'PureCN' ...
** using staged installation
** R
** data
** inst
** byte-compile and prepare package for lazy loading
** help
*** installing help indices
  converting help for package 'PureCN'
    finding HTML links ... done
    PureCN-defunct                          html  
    PureCN-deprecated                       html  
    annotateTargets                         html  
    bootstrapResults                        html  
    calculateBamCoverageByInterval          html  
    calculateLogRatio                       html  
    calculateMappingBiasGatk4               html  
    calculateMappingBiasVcf                 html  
    calculatePowerDetectSomatic             html  
    calculateTangentNormal                  html  
    callAlterations                         html  
    callAlterationsFromSegmentation         html  
    callAmplificationsInLowPurity           html  
    callCIN                                 html  
    callLOH                                 html  
    callMutationBurden                      html  
    centromeres                             html  
    correctCoverageBias                     html  
    createCurationFile                      html  
    createNormalDatabase                    html  
    filterIntervals                         html  
    filterVcfBasic                          html  
    filterVcfMuTect                         html  
    filterVcfMuTect2                        html  
    findFocal                               html  
    getSexFromCoverage                      html  
    getSexFromVcf                           html  
    plotAbs                                 html  
    poolCoverage                            html  
    predictSomatic                          html  
    preprocessIntervals                     html  
    processMultipleSamples                  html  
    purecn.DNAcopy.bdry                     html  
    purecn.example.output                   html  
    readAllelicCountsFile                   html  
    readCoverageFile                        html  
    readCurationFile                        html  
    readIntervalFile                        html  
    readLogRatioFile                        html  
    readSegmentationFile                    html  
    runAbsoluteCN                           html  
    segmentationCBS                         html  
    segmentationGATK4                       html  
    segmentationHclust                      html  
    segmentationPSCBS                       html  
    setMappingBiasVcf                       html  
    setPriorVcf                             html  
** building package indices
** installing vignettes
** testing if installed package can be loaded from temporary location
** testing if installed package can be loaded from final location
** testing if installed package keeps a record of temporary installation path
* DONE (PureCN)
Making 'packages.html' ... done