Name | Last modified | Size | Description | |
---|---|---|---|---|
Parent Directory | - | |||
checksrc-summary.dcf | 05-Jun-2024 03:36 | 441 | ||
checksrc-out.txt | 05-Jun-2024 03:36 | 4.2K | ||
buildbin-out.txt | 05-Jun-2024 03:36 | 1.1K | ||
buildbin-summary.dcf | 05-Jun-2024 03:36 | 525 | ||
install-summary.dcf | 12-Jun-2024 04:42 | 268 | ||
install-out.txt | 12-Jun-2024 04:42 | 1.0K | ||
buildsrc-summary.dcf | 12-Jun-2024 04:42 | 342 | ||
buildsrc-out.txt | 12-Jun-2024 04:42 | 1.5K | ||