Index of /checkResults/devel/bioc-LATEST/PureCN/raw-results/kjohnson1
Name
Last modified
Size
Description
Parent Directory
-
install-out.txt
12-Jun-2024 04:43
1.0K
install-summary.dcf
12-Jun-2024 04:43
267
buildsrc-out.txt
12-Jun-2024 04:43
1.5K
buildsrc-summary.dcf
12-Jun-2024 04:43
342