Index of /checkResults/devel/bioc-LATEST/PureCN/raw-results

[ICO]NameLast modifiedSizeDescription

[DIR]Parent Directory  -  
[DIR]nebbiolo2/02-Jul-2022 00:05 -  
[DIR]palomino4/02-Jul-2022 00:06 -  
[   ]info.dcf02-Jul-2022 00:08 271  
[DIR]lconway/02-Jul-2022 00:08 -