Name | Last modified | Size | Description | |
---|---|---|---|---|
Parent Directory | - | |||
install-out.txt | 17-Jul-2024 00:41 | 3.5K | ||
install-summary.dcf | 17-Jul-2024 00:41 | 282 | ||
buildsrc-out.txt | 17-Jul-2024 00:41 | 1.1K | ||
buildsrc-summary.dcf | 17-Jul-2024 00:41 | 475 | ||
checksrc-summary.dcf | 17-Jul-2024 00:41 | 481 | ||
checksrc-out.txt | 17-Jul-2024 00:41 | 8.6K | ||
buildbin-out.txt | 17-Jul-2024 00:41 | 3.7K | ||
buildbin-summary.dcf | 17-Jul-2024 00:41 | 545 | ||