Name | Last modified | Size | Description | |
---|---|---|---|---|
Parent Directory | - | |||
buildsrc-out.txt | 29-Mar-2024 00:36 | 846 | ||
buildsrc-summary.dcf | 29-Mar-2024 00:36 | 322 | ||
checksrc-out.txt | 08-Mar-2024 02:01 | 3.3K | ||
checksrc-summary.dcf | 08-Mar-2024 02:01 | 400 | ||
install-out.txt | 29-Mar-2024 00:36 | 617 | ||
install-summary.dcf | 29-Mar-2024 00:36 | 251 | ||