Index of /checkResults/devel/bioc-LATEST/Pi/raw-results/merida1
Name
Last modified
Size
Description
Parent Directory
-
install-summary.dcf
21-May-2024 00:37
261
install-out.txt
21-May-2024 00:37
677
buildsrc-summary.dcf
21-May-2024 00:37
332
buildsrc-out.txt
21-May-2024 00:37
862