Index of /checkResults/devel/bioc-LATEST/Pi/raw-results/lconway
Name
Last modified
Size
Description
Parent Directory
-
buildsrc-out.txt
29-Mar-2024 00:39
863
buildsrc-summary.dcf
29-Mar-2024 00:39
332
install-out.txt
29-Mar-2024 00:39
677
install-summary.dcf
29-Mar-2024 00:39
261