Index of /checkResults/devel/bioc-LATEST/PhenStat/raw-results

[ICO]NameLast modifiedSizeDescription

[DIR]Parent Directory  -  
[   ]info.dcf17-Aug-2022 00:08 272  
[DIR]kjohnson/12-Jul-2022 00:06 -  
[DIR]lconway/17-Aug-2022 00:08 -  
[DIR]nebbiolo2/17-Aug-2022 00:05 -  
[DIR]palomino4/17-Aug-2022 00:07 -