Back to Multiple platform build/check report for BioC 3.14
ABCDEFGHIJKLMNO[P]QRSTUVWXYZ

This page was generated on 2021-10-21 12:04:58 -0400 (Thu, 21 Oct 2021).

BUILD BIN results for PhIPData on riesling1

To the developers/maintainers of the PhIPData package:
- Please allow up to 24 hours (and sometimes 48 hours) for your latest push to git@git.bioconductor.org:packages/PhIPData.git to
reflect on this report. See How and When does the builder pull? When will my changes propagate? here for more information.
- Make sure to use the following settings in order to reproduce any error or warning you see on this page.

raw results

Package 1406/2075HostnameOS / ArchINSTALLBUILDCHECKBUILD BIN
PhIPData 1.1.2  (landing page)
Athena Chen
Snapshot Date: 2021-10-20 14:50:05 -0400 (Wed, 20 Oct 2021)
git_url: https://git.bioconductor.org/packages/PhIPData
git_branch: master
git_last_commit: 7a1a190
git_last_commit_date: 2021-08-23 12:02:56 -0400 (Mon, 23 Aug 2021)
nebbiolo2Linux (Ubuntu 20.04.2 LTS) / x86_64  OK    OK    OK  UNNEEDED, same version is already published
riesling1Windows Server 2019 Standard / x64  OK    OK    OK    OK  UNNEEDED, same version is already published
merida1macOS 10.14.6 Mojave / x86_64  OK    OK    OK    NA  

Summary

Package: PhIPData
Version: 1.1.2
Command: rm -rf PhIPData.buildbin-libdir && mkdir PhIPData.buildbin-libdir && D:\biocbuild\bbs-3.14-bioc\R\bin\R.exe CMD INSTALL --merge-multiarch --build --library=PhIPData.buildbin-libdir PhIPData_1.1.2.tar.gz
StartedAt: 2021-10-21 07:38:24 -0400 (Thu, 21 Oct 2021)
EndedAt: 2021-10-21 07:42:23 -0400 (Thu, 21 Oct 2021)
EllapsedTime: 238.5 seconds
RetCode: 0
Status:   OK  
PackageFile: PhIPData_1.1.2.zip
PackageFileSize: 1.241 MiB

Command output

##############################################################################
##############################################################################
###
### Running command:
###
###   rm -rf PhIPData.buildbin-libdir && mkdir PhIPData.buildbin-libdir && D:\biocbuild\bbs-3.14-bioc\R\bin\R.exe CMD INSTALL --merge-multiarch --build --library=PhIPData.buildbin-libdir PhIPData_1.1.2.tar.gz
###
##############################################################################
##############################################################################



install for i386

* installing *source* package 'PhIPData' ...
** using staged installation
** R
** inst
** byte-compile and prepare package for lazy loading
** help
*** installing help indices
  converting help for package 'PhIPData'
    finding HTML links ... done
    PhIPData-class                          html  
    finding level-2 HTML links ... done

    PhIPData-methods                        html  
    aliases                                 html  
    defineBeads                             html  
    librarySize                             html  
    peptideLibraries                        html  
    propReads                               html  
    subsetBeads                             html  
** building package indices
** installing vignettes
** testing if installed package can be loaded from temporary location
** testing if installed package can be loaded from final location
** testing if installed package keeps a record of temporary installation path

install for x64

* installing *source* package 'PhIPData' ...
** testing if installed package can be loaded
* MD5 sums
packaged installation of 'PhIPData' as PhIPData_1.1.2.zip
* DONE (PhIPData)