Back to Multiple platform build/check report for BioC 3.15
ABCDEFGHIJKLMNO[P]QRSTUVWXYZ

This page was generated on 2022-01-25 11:06:09 -0500 (Tue, 25 Jan 2022).

HostnameOSArch (*)R versionInstalled pkgs
nebbiolo1Linux (Ubuntu 20.04.4 LTS)x86_64R Under development (unstable) (2022-01-05 r81451) -- "Unsuffered Consequences" 4164
riesling1Windows Server 2019 Standardx64R Under development (unstable) (2021-11-21 r81221) -- "Unsuffered Consequences" 4059
palomino3Windows Server 2022 Datacenterx64R Under development (unstable) (2021-12-21 r81400 ucrt) -- "Unsuffered Consequences" 4001
merida1macOS 10.14.6 Mojavex86_64R Under development (unstable) (2022-01-05 r81451) -- "Unsuffered Consequences" 4118
Click on any hostname to see more info about the system (e.g. compilers)      (*) as reported by 'uname -p', except on Windows and Mac OS X

BUILD results for PepsNMR on nebbiolo1


To the developers/maintainers of the PepsNMR package:
- Please allow up to 24 hours (and sometimes 48 hours) for your latest push to git@git.bioconductor.org:packages/PepsNMR.git to
reflect on this report. See How and When does the builder pull? When will my changes propagate? here for more information.
- Make sure to use the following settings in order to reproduce any error or warning you see on this page.

raw results

Package 1390/2075HostnameOS / ArchINSTALLBUILDCHECKBUILD BIN
PepsNMR 1.13.0  (landing page)
Manon Martin
Snapshot Date: 2022-01-24 13:55:18 -0500 (Mon, 24 Jan 2022)
git_url: https://git.bioconductor.org/packages/PepsNMR
git_branch: master
git_last_commit: de8de2d
git_last_commit_date: 2021-10-26 12:48:17 -0500 (Tue, 26 Oct 2021)
nebbiolo1Linux (Ubuntu 20.04.4 LTS) / x86_64  OK    OK    OK  UNNEEDED, same version is already published
riesling1Windows Server 2019 Standard / x64  OK    OK    OK    OK  
palomino3Windows Server 2022 Datacenter / x64  OK    OK    OK    OK  UNNEEDED, same version is already published
merida1macOS 10.14.6 Mojave / x86_64  OK    OK    OK    OK  UNNEEDED, same version is already published

Summary

Package: PepsNMR
Version: 1.13.0
Command: /home/biocbuild/bbs-3.15-bioc/R/bin/R CMD build --keep-empty-dirs --no-resave-data PepsNMR
StartedAt: 2022-01-24 17:09:50 -0500 (Mon, 24 Jan 2022)
EndedAt: 2022-01-24 17:17:30 -0500 (Mon, 24 Jan 2022)
EllapsedTime: 459.8 seconds
RetCode: 0
Status:   OK  
PackageFile: PepsNMR_1.13.0.tar.gz
PackageFileSize: 1.127 MiB

Command output

##############################################################################
##############################################################################
###
### Running command:
###
###   /home/biocbuild/bbs-3.15-bioc/R/bin/R CMD build --keep-empty-dirs --no-resave-data PepsNMR
###
##############################################################################
##############################################################################


* checking for file ‘PepsNMR/DESCRIPTION’ ... OK
* preparing ‘PepsNMR’:
* checking DESCRIPTION meta-information ... OK
* installing the package to build vignettes
* creating vignettes ... OK
* checking for LF line-endings in source and make files and shell scripts
* checking for empty or unneeded directories
Omitted ‘LazyData’ from DESCRIPTION
* building ‘PepsNMR_1.13.0.tar.gz’