Name | Last modified | Size | Description | |
---|---|---|---|---|
Parent Directory | - | |||
buildsrc-out.txt | 28-Jul-2024 00:39 | 842 | ||
buildsrc-summary.dcf | 28-Jul-2024 00:39 | 432 | ||
checksrc-out.txt | 28-Jul-2024 00:39 | 3.1K | ||
checksrc-summary.dcf | 28-Jul-2024 00:39 | 425 | ||
install-out.txt | 28-Jul-2024 00:39 | 961 | ||
install-summary.dcf | 28-Jul-2024 00:39 | 264 | ||