Index of /checkResults/devel/bioc-LATEST/PepSetTest/raw-results
Name
Last modified
Size
Description
Parent Directory
-
palomino8/
28-Jul-2024 00:40
-
nebbiolo2/
28-Jul-2024 00:39
-
lconway/
28-Jul-2024 00:41
-
kjohnson3/
28-Jul-2024 00:42
-
info.dcf
28-Jul-2024 00:37
269