Index of /checkResults/devel/bioc-LATEST/PepSetTest/raw-results
Name
Last modified
Size
Description
Parent Directory
-
info.dcf
27-Jul-2024 00:37
269
kjohnson3/
27-Jul-2024 00:42
-
lconway/
27-Jul-2024 00:41
-
nebbiolo2/
27-Jul-2024 00:39
-
palomino8/
27-Jul-2024 00:40
-