Back to Multiple platform build/check report for BioC 3.14
ABCDEFGHIJKLMNO[P]QRSTUVWXYZ

This page was generated on 2021-10-22 12:04:37 -0400 (Fri, 22 Oct 2021).

BUILD BIN results for PathoStat on riesling1

To the developers/maintainers of the PathoStat package:
- Please allow up to 24 hours (and sometimes 48 hours) for your latest push to git@git.bioconductor.org:packages/PathoStat.git to
reflect on this report. See How and When does the builder pull? When will my changes propagate? here for more information.
- Make sure to use the following settings in order to reproduce any error or warning you see on this page.

raw results

Package 1373/2075HostnameOS / ArchINSTALLBUILDCHECKBUILD BIN
PathoStat 1.19.0  (landing page)
Solaiappan Manimaran
Snapshot Date: 2021-10-21 14:50:08 -0400 (Thu, 21 Oct 2021)
git_url: https://git.bioconductor.org/packages/PathoStat
git_branch: master
git_last_commit: 4c7d572
git_last_commit_date: 2021-05-19 12:23:43 -0400 (Wed, 19 May 2021)
nebbiolo2Linux (Ubuntu 20.04.2 LTS) / x86_64  OK    OK    OK  UNNEEDED, same version is already published
riesling1Windows Server 2019 Standard / x64  OK    OK    OK    OK  UNNEEDED, same version is already published
merida1macOS 10.14.6 Mojave / x86_64  OK    OK    OK    NA  

Summary

Package: PathoStat
Version: 1.19.0
Command: rm -rf PathoStat.buildbin-libdir && mkdir PathoStat.buildbin-libdir && D:\biocbuild\bbs-3.14-bioc\R\bin\R.exe CMD INSTALL --merge-multiarch --build --library=PathoStat.buildbin-libdir PathoStat_1.19.0.tar.gz
StartedAt: 2021-10-22 06:53:10 -0400 (Fri, 22 Oct 2021)
EndedAt: 2021-10-22 06:57:41 -0400 (Fri, 22 Oct 2021)
EllapsedTime: 270.7 seconds
RetCode: 0
Status:   OK  
PackageFile: PathoStat_1.19.0.zip
PackageFileSize: 1.094 MiB

Command output

##############################################################################
##############################################################################
###
### Running command:
###
###   rm -rf PathoStat.buildbin-libdir && mkdir PathoStat.buildbin-libdir && D:\biocbuild\bbs-3.14-bioc\R\bin\R.exe CMD INSTALL --merge-multiarch --build --library=PathoStat.buildbin-libdir PathoStat_1.19.0.tar.gz
###
##############################################################################
##############################################################################



install for i386

* installing *source* package 'PathoStat' ...
** using staged installation
** R
** data
** inst
** byte-compile and prepare package for lazy loading
** help
*** installing help indices
  converting help for package 'PathoStat'
    finding HTML links ... done
    Bootstrap_LOOCV_LR_AUC                  html  
    Chisq_Test_Pam                          html  
    Fisher_Test_Pam                         html  
    GET_PAM                                 html  
    LOOAUC_simple_multiple_noplot_one_df    html  
    LOOAUC_simple_multiple_one_df           html  
    PathoStat-class                         html  
    TranslateIdToTaxLevel                   html  
    Wilcox_Test_df                          html  
    findRAfromCount                         html  
    findTaxonMat                            html  
    findTaxonomy                            html  
    findTaxonomy300                         html  
    formatTaxTable                          html  
    getShinyInput                           html  
    getShinyInputCombat                     html  
    getShinyInputOrig                       html  
    getSignatureFromMultipleGlmnet          html  
    grepTid                                 html  
    loadPathoscopeReports                   html  
    loadPstat                               html  
    log2CPM                                 html  
    percent                                 html  
    phyloseq_to_edgeR                       html  
    plotPCAPlotly                           html  
    plotPCoAPlotly                          html  
    pstat_data                              html  
    readPathoscopeData                      html  
    runPathoStat                            html  
    savePstat                               html  
    setShinyInput                           html  
    setShinyInputCombat                     html  
    setShinyInputOrig                       html  
    summarizeTable                          html  
** building package indices
** installing vignettes
** testing if installed package can be loaded from temporary location
** testing if installed package can be loaded from final location
** testing if installed package keeps a record of temporary installation path

install for x64

* installing *source* package 'PathoStat' ...
** testing if installed package can be loaded
* MD5 sums
packaged installation of 'PathoStat' as PathoStat_1.19.0.zip
* DONE (PathoStat)