Back to Multiple platform build/check report for BioC 3.14
ABCDEFGHIJKLMNO[P]QRSTUVWXYZ

This page was generated on 2021-10-22 12:04:39 -0400 (Fri, 22 Oct 2021).

BUILD BIN results for PWMEnrich on riesling1

To the developers/maintainers of the PWMEnrich package:
- Please allow up to 24 hours (and sometimes 48 hours) for your latest push to git@git.bioconductor.org:packages/PWMEnrich.git to
reflect on this report. See How and When does the builder pull? When will my changes propagate? here for more information.
- Make sure to use the following settings in order to reproduce any error or warning you see on this page.

raw results

Package 1486/2075HostnameOS / ArchINSTALLBUILDCHECKBUILD BIN
PWMEnrich 4.29.1  (landing page)
Diego Diez
Snapshot Date: 2021-10-21 14:50:08 -0400 (Thu, 21 Oct 2021)
git_url: https://git.bioconductor.org/packages/PWMEnrich
git_branch: master
git_last_commit: 96da45d
git_last_commit_date: 2021-06-19 02:32:14 -0400 (Sat, 19 Jun 2021)
nebbiolo2Linux (Ubuntu 20.04.2 LTS) / x86_64  OK    OK    OK  UNNEEDED, same version is already published
riesling1Windows Server 2019 Standard / x64  OK    OK    OK    OK  UNNEEDED, same version is already published
merida1macOS 10.14.6 Mojave / x86_64  OK    OK    OK    NA  

Summary

Package: PWMEnrich
Version: 4.29.1
Command: rm -rf PWMEnrich.buildbin-libdir && mkdir PWMEnrich.buildbin-libdir && D:\biocbuild\bbs-3.14-bioc\R\bin\R.exe CMD INSTALL --merge-multiarch --build --library=PWMEnrich.buildbin-libdir PWMEnrich_4.29.1.tar.gz
StartedAt: 2021-10-22 07:07:28 -0400 (Fri, 22 Oct 2021)
EndedAt: 2021-10-22 07:12:15 -0400 (Fri, 22 Oct 2021)
EllapsedTime: 287.3 seconds
RetCode: 0
Status:   OK  
PackageFile: PWMEnrich_4.29.1.zip
PackageFileSize: 2.067 MiB

Command output

##############################################################################
##############################################################################
###
### Running command:
###
###   rm -rf PWMEnrich.buildbin-libdir && mkdir PWMEnrich.buildbin-libdir && D:\biocbuild\bbs-3.14-bioc\R\bin\R.exe CMD INSTALL --merge-multiarch --build --library=PWMEnrich.buildbin-libdir PWMEnrich_4.29.1.tar.gz
###
##############################################################################
##############################################################################



install for i386

* installing *source* package 'PWMEnrich' ...
** using staged installation
** R
** inst
** byte-compile and prepare package for lazy loading
** help
*** installing help indices
  converting help for package 'PWMEnrich'
    finding HTML links ... done
    DNAStringSetToList                      html  
    MotifEnrichmentReport-class             html  
    MotifEnrichmentResults-class            html  
    PFMtoPWM                                html  
    PWM-class                               html  
    PWMCutoffBackground-class               html  
    PWMEmpiricalBackground-class            html  
    PWMEnrich-package                       html  
    PWMGEVBackground-class                  html  
    PWMLognBackground-class                 html  
    PWMUnscaled                             html  
    affinitySequenceSet                     html  
    as.data.frame-MotifEnrichmentReport-method
                                            html  
    cloverPvalue1seq                        html  
    cloverScore                             html  
    colMedians                              html  
    colSds                                  html  
    concatenateSequences                    html  
    cutoffZscore                            html  
    cutoffZscoreSequenceSet                 html  
    divideRows                              html  
    dot-inputPFMfromMatrixOrPWM             html  
    dot-inputParamMotifs                    html  
    dot-inputParamSequences                 html  
    dot-normalize.bg.seq                    html  
    dot-normargPfm                          html  
    dot-normargPriorParams                  html  
    empiricalPvalue                         html  
    empiricalPvalueSequenceSet              html  
    getBackgroundFrequencies                html  
    getPromoters                            html  
    gevPerSequence                          html  
    groupReport-MotifEnrichmentResults-method
                                            html  
    keepFinite                              html  
    logNormPval                             html  
    logNormPvalSequenceSet                  html  
    makeBackground                          html  
    makePWMCutoffBackground                 html  
    makePWMEmpiricalBackground              html  
    makePWMGEVBackground                    html  
    makePWMLognBackground                   html  
    makePWMPvalCutoffBackground             html  
    makePWMPvalCutoffBackgroundFromSeq      html  
    makePriors                              html  
    makeStartEndPos                         html  
    matrixShuffleZscorePerSequence          html  
    maxAligned                              html  
    motifDiffEnrichment                     html  
    motifEcdf                               html  
    motifEnrichment                         html  
    motifIC                                 html  
    motifPrAUC                              html  
    motifRankingForGroup-MotifEnrichmentResults-method
                                            html  
    motifRankingForSequence-MotifEnrichmentResults-method
                                            html  
    motifRecoveryAUC                        html  
    motifScores                             html  
    motifScoresBigMemory                    html  
    motifSimilarity                         html  
    operators-MotifEnrichmentReport         html  
    operators-MotifEnrichmentResults        html  
    operators-PWM                           html  
    operators-PWMCutoffBackground           html  
    operators-PWMEmpiricalBackground        html  
    operators-PWMGEVBackground              html  
    operators-PWMLognBackground             html  
    plot-MotifEnrichmentReport-missing-method
                                            html  
    plot-PWM-missing-method                 html  
    plotMotifScores                         html  
    plotMultipleMotifs                      html  
    plotPFM                                 html  
    plotTopMotifsGroup-MotifEnrichmentResults-method
                                            html  
    plotTopMotifsSequence-MotifEnrichmentResults-method
                                            html  
    rankingProcessAndReturn                 html  
    readJASPAR                              html  
    readMotifs                              html  
    readTRANSFAC                            html  
    registerCoresPWMEnrich                  html  
    reverseComplement-PWM-method            html  
    scanWithPWM                             html  
    seqLogoGrid                             html  
    sequenceReport-MotifEnrichmentResults-method
                                            html  
    show-MotifEnrichmentReport-method       html  
    show-MotifEnrichmentResults-method      html  
    show-PWM-method                         html  
    show-PWMCutoffBackground-method         html  
    show-PWMEmpiricalBackground-method      html  
    show-PWMGEVBackground-method            html  
    show-PWMLognBackground-method           html  
    subsetting-PWMCutoffBackground          html  
    subsetting-PWMEmpiricalBackground       html  
    subsetting-PWMGEVBackground             html  
    subsetting-PWMLognBackground            html  
    toPWM                                   html  
    tryAllMotifAlignments                   html  
    useBigMemoryPWMEnrich                   html  
** building package indices
** installing vignettes
** testing if installed package can be loaded from temporary location
** testing if installed package can be loaded from final location
** testing if installed package keeps a record of temporary installation path

install for x64

* installing *source* package 'PWMEnrich' ...
** testing if installed package can be loaded
* MD5 sums
packaged installation of 'PWMEnrich' as PWMEnrich_4.29.1.zip
* DONE (PWMEnrich)