Name | Last modified | Size | Description | |
---|---|---|---|---|
Parent Directory | - | |||
install-summary.dcf | 12-Jul-2024 00:59 | 258 | ||
checksrc-summary.dcf | 12-Jul-2024 00:59 | 412 | ||
buildsrc-summary.dcf | 12-Jul-2024 00:59 | 421 | ||
buildsrc-out.txt | 12-Jul-2024 00:59 | 829 | ||
install-out.txt | 12-Jul-2024 00:59 | 944 | ||
checksrc-out.txt | 12-Jul-2024 00:59 | 3.2K | ||