Back to Multiple platform build/check report for BioC 3.11
ABCDEFGHIJKLMNO[P]QRSTUVWXYZ

Multiple platform build/check report for BioC 3.11

Results for PSICQUIC

This page was generated on 2020-04-01 13:10:06 -0400 (Wed, 01 Apr 2020).

Package 1341/1855HostnameOS / ArchINSTALLBUILDCHECKBUILD BIN
PSICQUIC 1.25.0
Paul Shannon
Snapshot Date: 2020-03-31 16:45:16 -0400 (Tue, 31 Mar 2020)
URL: https://git.bioconductor.org/packages/PSICQUIC
Branch: master
Last Commit: a539b65
Last Changed Date: 2019-10-29 13:37:14 -0400 (Tue, 29 Oct 2019)
malbec2 Linux (Ubuntu 18.04.4 LTS) / x86_64  OK  OK  ERROR 
tokay2 Windows Server 2012 R2 Standard / x64  OK  OK  ERROR  OK