Back to Multiple platform build/check report for BioC 3.15
ABCDEFGHIJKLMNO[P]QRSTUVWXYZ

This page was generated on 2021-11-30 13:55:06 -0500 (Tue, 30 Nov 2021).

INSTALL results for PROPS on riesling1

To the developers/maintainers of the PROPS package:
- Please allow up to 24 hours (and sometimes 48 hours) for your latest push to git@git.bioconductor.org:packages/PROPS.git to
reflect on this report. See How and When does the builder pull? When will my changes propagate? here for more information.
- Make sure to use the following settings in order to reproduce any error or warning you see on this page.

raw results

Package 1460/2068HostnameOS / ArchINSTALLBUILDCHECKBUILD BIN
PROPS 1.17.0  (landing page)
Lichy Han
Snapshot Date: 2021-11-29 14:50:17 -0500 (Mon, 29 Nov 2021)
git_url: https://git.bioconductor.org/packages/PROPS
git_branch: master
git_last_commit: b6ef47a
git_last_commit_date: 2021-10-26 12:39:40 -0500 (Tue, 26 Oct 2021)
nebbiolo1Linux (Ubuntu 20.04.3 LTS) / x86_64  OK    OK    OK  UNNEEDED, same version is already published
riesling1Windows Server 2019 Standard / x64  OK    OK    OK    OK  
merida1macOS 10.14.6 Mojave / x86_64  OK    OK    OK    OK  UNNEEDED, same version is already published

Summary

Package: PROPS
Version: 1.17.0
Command: C:\cygwin\bin\curl.exe -O http://155.52.207.165/BBS/3.15/bioc/src/contrib/PROPS_1.17.0.tar.gz && rm -rf PROPS.buildbin-libdir && mkdir PROPS.buildbin-libdir && D:\biocbuild\bbs-3.15-bioc\R\bin\R.exe CMD INSTALL --merge-multiarch --build --library=PROPS.buildbin-libdir PROPS_1.17.0.tar.gz && D:\biocbuild\bbs-3.15-bioc\R\bin\R.exe CMD INSTALL PROPS_1.17.0.zip && rm PROPS_1.17.0.tar.gz PROPS_1.17.0.zip
StartedAt: 2021-11-29 18:26:21 -0500 (Mon, 29 Nov 2021)
EndedAt: 2021-11-29 18:29:24 -0500 (Mon, 29 Nov 2021)
EllapsedTime: 183.1 seconds
RetCode: 0
Status:   OK  

Command output

##############################################################################
##############################################################################
###
### Running command:
###
###   C:\cygwin\bin\curl.exe -O http://155.52.207.165/BBS/3.15/bioc/src/contrib/PROPS_1.17.0.tar.gz && rm -rf PROPS.buildbin-libdir && mkdir PROPS.buildbin-libdir && D:\biocbuild\bbs-3.15-bioc\R\bin\R.exe CMD INSTALL --merge-multiarch --build --library=PROPS.buildbin-libdir PROPS_1.17.0.tar.gz && D:\biocbuild\bbs-3.15-bioc\R\bin\R.exe CMD INSTALL PROPS_1.17.0.zip && rm PROPS_1.17.0.tar.gz PROPS_1.17.0.zip
###
##############################################################################
##############################################################################


  % Total    % Received % Xferd  Average Speed   Time    Time     Time  Current
                                 Dload  Upload   Total   Spent    Left  Speed

  0     0    0     0    0     0      0      0 --:--:-- --:--:-- --:--:--     0
 72 3660k   72 2640k    0     0  3970k      0 --:--:-- --:--:-- --:--:-- 3970k
100 3660k  100 3660k    0     0  4140k      0 --:--:-- --:--:-- --:--:-- 4140k
only one architecture so ignoring '--merge-multiarch'
* installing *source* package 'PROPS' ...
** using staged installation
** R
** data
** byte-compile and prepare package for lazy loading
** help
*** installing help indices
  converting help for package 'PROPS'
    finding HTML links ... done
    PROPS-package                           html  
    example_data                            html  
    example_edges                           html  
    example_healthy                         html  
    kegg_pathway_edges                      html  
    props                                   html  
REDIRECT:topic	 Previous alias or file overwritten by alias: D:/biocbuild/bbs-3.15-bioc/meat/PROPS.buildbin-libdir/00LOCK-PROPS/00new/PROPS/help/props.html
** building package indices
** installing vignettes
** testing if installed package can be loaded from temporary location
** testing if installed package can be loaded from final location
** testing if installed package keeps a record of temporary installation path
* MD5 sums
packaged installation of 'PROPS' as PROPS_1.17.0.zip
* DONE (PROPS)
* installing to library 'D:/biocbuild/bbs-3.15-bioc/R/library'
package 'PROPS' successfully unpacked and MD5 sums checked