Back to Multiple platform build/check report for BioC 3.14
ABCDEFGHIJKLMNO[P]QRSTUVWXYZ

This page was generated on 2021-10-14 12:05:45 -0400 (Thu, 14 Oct 2021).

INSTALL results for PROPER on riesling1

To the developers/maintainers of the PROPER package:
- Please allow up to 24 hours (and sometimes 48 hours) for your latest push to git@git.bioconductor.org:packages/PROPER.git to
reflect on this report. See How and When does the builder pull? When will my changes propagate? here for more information.
- Make sure to use the following settings in order to reproduce any error or warning you see on this page.

raw results

Package 1450/2056HostnameOS / ArchINSTALLBUILDCHECKBUILD BIN
PROPER 1.25.0  (landing page)
Hao Wu
Snapshot Date: 2021-10-13 14:50:09 -0400 (Wed, 13 Oct 2021)
git_url: https://git.bioconductor.org/packages/PROPER
git_branch: master
git_last_commit: 16895ad
git_last_commit_date: 2021-05-19 12:10:06 -0400 (Wed, 19 May 2021)
nebbiolo2Linux (Ubuntu 20.04.2 LTS) / x86_64  OK    OK    WARNINGS  UNNEEDED, same version is already published
riesling1Windows Server 2019 Standard / x64  OK    OK    WARNINGS    OK  UNNEEDED, same version is already published
merida1macOS 10.14.6 Mojave / x86_64  OK    OK    WARNINGS    OK  UNNEEDED, same version is already published

Summary

Package: PROPER
Version: 1.25.0
Command: C:\cygwin\bin\curl.exe -O http://155.52.207.166/BBS/3.14/bioc/src/contrib/PROPER_1.25.0.tar.gz && rm -rf PROPER.buildbin-libdir && mkdir PROPER.buildbin-libdir && D:\biocbuild\bbs-3.14-bioc\R\bin\R.exe CMD INSTALL --merge-multiarch --build --library=PROPER.buildbin-libdir PROPER_1.25.0.tar.gz && D:\biocbuild\bbs-3.14-bioc\R\bin\R.exe CMD INSTALL PROPER_1.25.0.zip && rm PROPER_1.25.0.tar.gz PROPER_1.25.0.zip
StartedAt: 2021-10-13 16:42:47 -0400 (Wed, 13 Oct 2021)
EndedAt: 2021-10-13 16:45:52 -0400 (Wed, 13 Oct 2021)
EllapsedTime: 185.4 seconds
RetCode: 0
Status:   OK  

Command output

##############################################################################
##############################################################################
###
### Running command:
###
###   C:\cygwin\bin\curl.exe -O http://155.52.207.166/BBS/3.14/bioc/src/contrib/PROPER_1.25.0.tar.gz && rm -rf PROPER.buildbin-libdir && mkdir PROPER.buildbin-libdir && D:\biocbuild\bbs-3.14-bioc\R\bin\R.exe CMD INSTALL --merge-multiarch --build --library=PROPER.buildbin-libdir PROPER_1.25.0.tar.gz && D:\biocbuild\bbs-3.14-bioc\R\bin\R.exe CMD INSTALL PROPER_1.25.0.zip && rm PROPER_1.25.0.tar.gz PROPER_1.25.0.zip
###
##############################################################################
##############################################################################


  % Total    % Received % Xferd  Average Speed   Time    Time     Time  Current
                                 Dload  Upload   Total   Spent    Left  Speed

  0     0    0     0    0     0      0      0 --:--:-- --:--:-- --:--:--     0
100 1596k  100 1596k    0     0  4666k      0 --:--:-- --:--:-- --:--:-- 4666k

install for i386

* installing *source* package 'PROPER' ...
** using staged installation
** R
** data
** inst
** byte-compile and prepare package for lazy loading
** help
*** installing help indices
  converting help for package 'PROPER'
    finding HTML links ... done
    RNAseq.SimOptions.2grp                  html  
    comparePower                            html  
    estParam                                html  
    historicalData                          html  
    plotPowerHist                           html  
    plots                                   html  
    power.seqDepth                          html  
    runSims                                 html  
    simRNAseq                               html  
    summaryPower                            html  
** building package indices
** installing vignettes
** testing if installed package can be loaded from temporary location
** testing if installed package can be loaded from final location
** testing if installed package keeps a record of temporary installation path

install for x64

* installing *source* package 'PROPER' ...
** testing if installed package can be loaded
* MD5 sums
packaged installation of 'PROPER' as PROPER_1.25.0.zip
* DONE (PROPER)
* installing to library 'D:/biocbuild/bbs-3.14-bioc/R/library'
package 'PROPER' successfully unpacked and MD5 sums checked