Index of /checkResults/devel/bioc-LATEST/PROPER/raw-results

[ICO]NameLast modifiedSizeDescription

[DIR]Parent Directory  -  
[   ]info.dcf28-Nov-2021 04:05 253  
[DIR]merida1/28-Nov-2021 04:05 -  
[DIR]nebbiolo1/28-Nov-2021 04:04 -  
[DIR]riesling1/28-Nov-2021 04:05 -