Name | Last modified | Size | Description | |
---|---|---|---|---|
Parent Directory | - | |||
checksrc-summary.dcf | 28-Jul-2024 00:39 | 414 | ||
checksrc-out.txt | 28-Jul-2024 00:39 | 3.7K | ||
buildsrc-summary.dcf | 28-Jul-2024 00:39 | 423 | ||
buildsrc-out.txt | 28-Jul-2024 00:39 | 893 | ||
install-out.txt | 28-Jul-2024 00:39 | 952 | ||
install-summary.dcf | 28-Jul-2024 00:39 | 259 | ||