Name | Last modified | Size | Description | |
---|---|---|---|---|
Parent Directory | - | |||
buildsrc-out.txt | 09-Jul-2024 00:45 | 857 | ||
buildsrc-summary.dcf | 09-Jul-2024 00:45 | 405 | ||
checksrc-out.txt | 09-Jul-2024 00:45 | 3.8K | ||
checksrc-summary.dcf | 09-Jul-2024 00:45 | 405 | ||
install-out.txt | 07-Jul-2024 00:44 | 934 | ||
install-summary.dcf | 07-Jul-2024 00:44 | 247 | ||