Back to Multiple platform build/check report for BioC 3.13
ABCDEFGHIJKLMNO[P]QRSTUVWXYZ

BUILD report for PING on malbec2

This page was generated on 2021-01-25 12:33:58 -0500 (Mon, 25 Jan 2021).

TO THE DEVELOPERS/MAINTAINERS OF THE PING PACKAGE: Please make sure to use the following settings in order to reproduce any error or warning you see on this page.
Package 1319/1938HostnameOS / ArchINSTALLBUILDCHECKBUILD BIN
PING 2.35.0
Renan Sauteraud
Snapshot Date: 2021-01-24 14:40:26 -0500 (Sun, 24 Jan 2021)
URL: https://git.bioconductor.org/packages/PING
Branch: master
Last Commit: 77ad790
Last Changed Date: 2020-10-27 10:44:58 -0500 (Tue, 27 Oct 2020)
malbec2 Linux (Ubuntu 20.04.1 LTS) / x86_64  OK [ OK ] WARNINGS UNNEEDED, same version exists in internal repository
tokay2 Windows Server 2012 R2 Standard / x64  OK  OK  WARNINGS  OK UNNEEDED, same version exists in internal repository
riesling1 Windows Server 2019 Standard / x64  OK  OK  WARNINGS  OK 
machv2 macOS 10.14.6 Mojave / x86_64  OK  OK  WARNINGS  OK UNNEEDED, same version exists in internal repository

Summary

Package: PING
Version: 2.35.0
Command: /home/biocbuild/bbs-3.13-bioc/R/bin/R CMD build --keep-empty-dirs --no-resave-data PING
StartedAt: 2021-01-24 21:05:14 -0500 (Sun, 24 Jan 2021)
EndedAt: 2021-01-24 21:05:15 -0500 (Sun, 24 Jan 2021)
EllapsedTime: 1.7 seconds
RetCode: 0
Status:  OK 
PackageFile: PING_2.35.0.tar.gz
PackageFileSize: 4.51 MiB

Command output

##############################################################################
##############################################################################
###
### Running command:
###
###   /home/biocbuild/bbs-3.13-bioc/R/bin/R CMD build --keep-empty-dirs --no-resave-data PING
###
##############################################################################
##############################################################################


* checking for file ‘PING/DESCRIPTION’ ... OK
* preparing ‘PING’:
* checking DESCRIPTION meta-information ... OK
* cleaning src
* running ‘cleanup’
* checking for LF line-endings in source and make files and shell scripts
* checking for empty or unneeded directories
* building ‘PING_2.35.0.tar.gz’