Index of /checkResults/devel/bioc-LATEST/PICS/raw-results/palomino4

[ICO]NameLast modifiedSizeDescription

[DIR]Parent Directory  -  
[TXT]buildbin-out.txt25-Jun-2022 00:06 4.2K 
[   ]buildbin-summary.dcf25-Jun-2022 00:06 515  
[TXT]buildsrc-out.txt25-Jun-2022 00:06 1.0K 
[   ]buildsrc-summary.dcf25-Jun-2022 00:06 440  
[TXT]checksrc-out.txt25-Jun-2022 00:06 4.2K 
[   ]checksrc-summary.dcf25-Jun-2022 00:06 438  
[TXT]install-out.txt25-Jun-2022 00:06 4.8K 
[   ]install-summary.dcf25-Jun-2022 00:06 601