Index of /checkResults/devel/bioc-LATEST/PICS/raw-results/nebbiolo2

[ICO]NameLast modifiedSizeDescription

[DIR]Parent Directory  -  
[TXT]buildsrc-out.txt01-Jul-2022 00:05 872  
[   ]buildsrc-summary.dcf01-Jul-2022 00:05 409  
[TXT]checksrc-out.txt01-Jul-2022 00:05 3.4K 
[   ]checksrc-summary.dcf01-Jul-2022 00:05 412  
[TXT]install-out.txt01-Jul-2022 00:05 3.8K 
[   ]install-summary.dcf01-Jul-2022 00:05 253