Name | Last modified | Size | Description | |
---|---|---|---|---|
Parent Directory | - | |||
install-summary.dcf | 28-Mar-2024 00:39 | 263 | ||
install-out.txt | 28-Mar-2024 00:39 | 4.8K | ||
checksrc-summary.dcf | 28-Mar-2024 00:39 | 432 | ||
checksrc-out.txt | 28-Mar-2024 00:39 | 4.3K | ||
buildsrc-summary.dcf | 28-Mar-2024 00:39 | 418 | ||
buildsrc-out.txt | 28-Mar-2024 00:39 | 882 | ||
buildbin-summary.dcf | 28-Mar-2024 00:39 | 512 | ||
buildbin-out.txt | 28-Mar-2024 00:39 | 6.6K | ||