Back to Multiple platform build/check report for BioC 3.16
ABCDEFGHIJKLMNO[P]QRSTUVWXYZ

This page was generated on 2022-06-24 11:05:39 -0400 (Fri, 24 Jun 2022).

HostnameOSArch (*)R versionInstalled pkgs
nebbiolo2Linux (Ubuntu 20.04.4 LTS)x86_644.2.0 Patched (2022-06-02 r82447) -- "Vigorous Calisthenics" 4331
palomino4Windows Server 2022 Datacenterx644.2.0 Patched (2022-06-02 r82447 ucrt) -- "Vigorous Calisthenics" 4136
lconwaymacOS 12.2.1 Montereyx86_644.2.0 Patched (2022-05-29 r82424) -- "Vigorous Calisthenics" 4147
Click on any hostname to see more info about the system (e.g. compilers)      (*) as reported by 'uname -p', except on Windows and Mac OS X

CHECK results for PFP on nebbiolo2


To the developers/maintainers of the PFP package:
- Please allow up to 24 hours (and sometimes 48 hours) for your latest push to git@git.bioconductor.org:packages/PFP.git to
reflect on this report. See How and When does the builder pull? When will my changes propagate? for more information.
- Make sure to use the following settings in order to reproduce any error or warning you see on this page.

raw results

Package 1425/2118HostnameOS / ArchINSTALLBUILDCHECKBUILD BIN
PFP 1.5.0  (landing page)
XC Zhang
Snapshot Date: 2022-06-23 14:00:04 -0400 (Thu, 23 Jun 2022)
git_url: https://git.bioconductor.org/packages/PFP
git_branch: master
git_last_commit: ff627a7
git_last_commit_date: 2022-04-26 12:11:55 -0400 (Tue, 26 Apr 2022)
nebbiolo2Linux (Ubuntu 20.04.4 LTS) / x86_64  OK    OK    OK  UNNEEDED, same version is already published
palomino4Windows Server 2022 Datacenter / x64  OK    OK    OK    OK  UNNEEDED, same version is already published
lconwaymacOS 12.2.1 Monterey / x86_64  OK    OK    OK    OK  UNNEEDED, same version is already published

Summary

Package: PFP
Version: 1.5.0
Command: /home/biocbuild/bbs-3.16-bioc/R/bin/R CMD check --install=check:PFP.install-out.txt --library=/home/biocbuild/bbs-3.16-bioc/R/library --no-vignettes --timings PFP_1.5.0.tar.gz
StartedAt: 2022-06-23 21:10:40 -0400 (Thu, 23 Jun 2022)
EndedAt: 2022-06-23 21:14:09 -0400 (Thu, 23 Jun 2022)
EllapsedTime: 208.8 seconds
RetCode: 0
Status:   OK  
CheckDir: PFP.Rcheck
Warnings: 0

Command output

##############################################################################
##############################################################################
###
### Running command:
###
###   /home/biocbuild/bbs-3.16-bioc/R/bin/R CMD check --install=check:PFP.install-out.txt --library=/home/biocbuild/bbs-3.16-bioc/R/library --no-vignettes --timings PFP_1.5.0.tar.gz
###
##############################################################################
##############################################################################


* using log directory ‘/home/biocbuild/bbs-3.16-bioc/meat/PFP.Rcheck’
* using R version 4.2.0 Patched (2022-06-02 r82447)
* using platform: x86_64-pc-linux-gnu (64-bit)
* using session charset: UTF-8
* using option ‘--no-vignettes’
* checking for file ‘PFP/DESCRIPTION’ ... OK
* checking extension type ... Package
* this is package ‘PFP’ version ‘1.5.0’
* package encoding: UTF-8
* checking package namespace information ... OK
* checking package dependencies ... OK
* checking if this is a source package ... OK
* checking if there is a namespace ... OK
* checking for hidden files and directories ... OK
* checking for portable file names ... OK
* checking for sufficient/correct file permissions ... OK
* checking whether package ‘PFP’ can be installed ... OK
* checking installed package size ... OK
* checking package directory ... OK
* checking ‘build’ directory ... OK
* checking DESCRIPTION meta-information ... OK
* checking top-level files ... OK
* checking for left-over files ... OK
* checking index information ... OK
* checking package subdirectories ... OK
* checking R files for non-ASCII characters ... OK
* checking R files for syntax errors ... OK
* checking whether the package can be loaded ... OK
* checking whether the package can be loaded with stated dependencies ... OK
* checking whether the package can be unloaded cleanly ... OK
* checking whether the namespace can be loaded with stated dependencies ... OK
* checking whether the namespace can be unloaded cleanly ... OK
* checking dependencies in R code ... OK
* checking S3 generic/method consistency ... OK
* checking replacement functions ... OK
* checking foreign function calls ... OK
* checking R code for possible problems ... OK
* checking Rd files ... OK
* checking Rd metadata ... OK
* checking Rd cross-references ... OK
* checking for missing documentation entries ... OK
* checking for code/documentation mismatches ... OK
* checking Rd \usage sections ... OK
* checking Rd contents ... OK
* checking for unstated dependencies in examples ... OK
* checking contents of ‘data’ directory ... OK
* checking data for non-ASCII characters ... OK
* checking data for ASCII and uncompressed saves ... OK
* checking files in ‘vignettes’ ... OK
* checking examples ... OK
Examples with CPU (user + system) or elapsed time > 5s
                 user system elapsed
calc_PFP_score 10.514  0.315   10.83
* checking for unstated dependencies in ‘tests’ ... OK
* checking tests ...
  Running ‘testthat.R’
 OK
* checking for unstated dependencies in vignettes ... OK
* checking package vignettes in ‘inst/doc’ ... OK
* checking running R code from vignettes ... SKIPPED
* checking re-building of vignette outputs ... SKIPPED
* checking PDF version of manual ... OK
* DONE

Status: OK


Installation output

PFP.Rcheck/00install.out

##############################################################################
##############################################################################
###
### Running command:
###
###   /home/biocbuild/bbs-3.16-bioc/R/bin/R CMD INSTALL PFP
###
##############################################################################
##############################################################################


* installing to library ‘/home/biocbuild/bbs-3.16-bioc/R/library’
* installing *source* package ‘PFP’ ...
** using staged installation
** R
** data
** byte-compile and prepare package for lazy loading
** help
*** installing help indices
** building package indices
** installing vignettes
** testing if installed package can be loaded from temporary location
** testing if installed package can be loaded from final location
** testing if installed package keeps a record of temporary installation path
* DONE (PFP)

Tests output

PFP.Rcheck/tests/testthat.Rout


R version 4.2.0 Patched (2022-06-02 r82447) -- "Vigorous Calisthenics"
Copyright (C) 2022 The R Foundation for Statistical Computing
Platform: x86_64-pc-linux-gnu (64-bit)

R is free software and comes with ABSOLUTELY NO WARRANTY.
You are welcome to redistribute it under certain conditions.
Type 'license()' or 'licence()' for distribution details.

R is a collaborative project with many contributors.
Type 'contributors()' for more information and
'citation()' on how to cite R or R packages in publications.

Type 'demo()' for some demos, 'help()' for on-line help, or
'help.start()' for an HTML browser interface to help.
Type 'q()' to quit R.

> library(testthat)
> library(PFP)

> test_check('PFP')
[ FAIL 0 | WARN 6 | SKIP 0 | PASS 31 ]

[ FAIL 0 | WARN 6 | SKIP 0 | PASS 31 ]
> 
> proc.time()
   user  system elapsed 
  8.827   0.807   9.621 

Example timings

PFP.Rcheck/PFP-Ex.timings

nameusersystemelapsed
PFP-class0.1200.0470.169
PFPRefnet-class0.4520.0200.472
PFPRefnet_hsa0.2840.0080.293
PFPRefnet_mmu0.3870.0000.388
PFP_score-methods0.0040.0000.004
PFP_test10.0040.0000.004
PFP_test20.0030.0000.004
calc_PFP_score10.514 0.31510.830
data_std0.010.000.01
gene_list_hsa0.0010.0000.001
genes_score-methods0.0040.0000.004
get_PFPRefnet0.0000.0000.001
get_asso_net2.2970.0712.369
get_bg_related_kegg1.4070.0321.439
get_exp_cor_edges0.1330.0040.138
get_pathway_info0.0810.0112.302
group-methods0.310.000.31
kegg_download0.0010.0000.000
net_info-methods0.2810.0000.280
net_names-methods0.2850.0040.289
network-methods0.2940.0360.330
pathway_info0.0020.0000.003
pathway_info_hsa0.0010.0000.002
pathways_score-methods0.0030.0000.004
plot_PFP-methods0.2740.0080.282
plot_PFPlist0.2040.0040.208
rank_PFP-methods0.1140.0160.129
refnet_info-methods0.0000.0040.004
refnet_names-methods0.0040.0000.004
result_PFP-methods0.0060.0000.005
show_PFP-methods0.0060.0000.006
show_net-methods0.2930.0040.297
stats_test-methods0.0050.0000.004
sub_PFP-methods0.1100.0110.121
subnet-methods0.3660.0040.370
trans_edges_id1.5420.0241.566
trans_graph2PFPRefnet0.4620.0150.477
trans_xml2graph0.0010.0000.000