Index of /checkResults/devel/bioc-LATEST/PCAtools/raw-results/palomino3

[ICO]NameLast modifiedSizeDescription

[DIR]Parent Directory  -  
[TXT]buildbin-out.txt29-Mar-2024 00:38 221K 
[   ]buildbin-summary.dcf29-Mar-2024 00:38 521  
[TXT]buildsrc-out.txt29-Mar-2024 00:38 876  
[   ]buildsrc-summary.dcf29-Mar-2024 00:38 457  
[TXT]checksrc-out.txt29-Mar-2024 00:38 4.2K 
[   ]checksrc-summary.dcf29-Mar-2024 00:38 451  
[TXT]install-out.txt29-Mar-2024 00:38 221K 
[   ]install-summary.dcf29-Mar-2024 00:38 270