Back to Multiple platform build/check report for BioC 3.15
ABCDEFGHIJKLMNO[P]QRSTUVWXYZ

This page was generated on 2021-11-25 14:05:09 -0500 (Thu, 25 Nov 2021).

CHECK results for PAA on riesling1

To the developers/maintainers of the PAA package:
- Please allow up to 24 hours (and sometimes 48 hours) for your latest push to git@git.bioconductor.org:packages/PAA.git to
reflect on this report. See How and When does the builder pull? When will my changes propagate? here for more information.
- Make sure to use the following settings in order to reproduce any error or warning you see on this page.

raw results

Package 1348/2068HostnameOS / ArchINSTALLBUILDCHECKBUILD BIN
PAA 1.29.0  (landing page)
Michael Turewicz , Martin Eisenacher
Snapshot Date: 2021-11-24 14:50:13 -0500 (Wed, 24 Nov 2021)
git_url: https://git.bioconductor.org/packages/PAA
git_branch: master
git_last_commit: ed8ff09
git_last_commit_date: 2021-10-26 12:16:40 -0500 (Tue, 26 Oct 2021)
nebbiolo1Linux (Ubuntu 20.04.3 LTS) / x86_64  OK    OK    OK  UNNEEDED, same version is already published
riesling1Windows Server 2019 Standard / x64  OK    OK    OK    OK  
merida1macOS 10.14.6 Mojave / x86_64  OK    OK    OK    OK  UNNEEDED, same version is already published

Summary

Package: PAA
Version: 1.29.0
Command: D:\biocbuild\bbs-3.15-bioc\R\bin\R.exe CMD check --force-multiarch --install=check:PAA.install-out.txt --library=D:\biocbuild\bbs-3.15-bioc\R\library --no-vignettes --timings PAA_1.29.0.tar.gz
StartedAt: 2021-11-25 03:17:25 -0500 (Thu, 25 Nov 2021)
EndedAt: 2021-11-25 03:23:26 -0500 (Thu, 25 Nov 2021)
EllapsedTime: 361.2 seconds
RetCode: 0
Status:   OK  
CheckDir: PAA.Rcheck
Warnings: 0

Command output

##############################################################################
##############################################################################
###
### Running command:
###
###   D:\biocbuild\bbs-3.15-bioc\R\bin\R.exe CMD check --force-multiarch --install=check:PAA.install-out.txt --library=D:\biocbuild\bbs-3.15-bioc\R\library --no-vignettes --timings PAA_1.29.0.tar.gz
###
##############################################################################
##############################################################################


* using log directory 'D:/biocbuild/bbs-3.15-bioc/meat/PAA.Rcheck'
* using R Under development (unstable) (2021-11-21 r81221)
* using platform: x86_64-w64-mingw32 (64-bit)
* using session charset: ISO8859-1
* using option '--no-vignettes'
* checking for file 'PAA/DESCRIPTION' ... OK
* this is package 'PAA' version '1.29.0'
* checking package namespace information ... OK
* checking package dependencies ... OK
* checking if this is a source package ... OK
* checking if there is a namespace ... OK
* checking for hidden files and directories ... OK
* checking for portable file names ... OK
* checking whether package 'PAA' can be installed ... OK
* checking installed package size ... NOTE
  installed size is  5.0Mb
  sub-directories of 1Mb or more:
    extdata   2.6Mb
* checking package directory ... OK
* checking 'build' directory ... OK
* checking DESCRIPTION meta-information ... NOTE
Authors@R field gives more than one person with maintainer role:
  Michael Turewicz <michael.turewicz@rub.de> [aut, cre]
  Martin Eisenacher <martin.eisenacher@rub.de> [ctb, cre]
* checking top-level files ... OK
* checking for left-over files ... OK
* checking index information ... OK
* checking package subdirectories ... OK
* checking R files for non-ASCII characters ... OK
* checking R files for syntax errors ... OK
* checking whether the package can be loaded ... OK
* checking whether the package can be loaded with stated dependencies ... OK
* checking whether the package can be unloaded cleanly ... OK
* checking whether the namespace can be loaded with stated dependencies ... OK
* checking whether the namespace can be unloaded cleanly ... OK
* checking dependencies in R code ... OK
* checking S3 generic/method consistency ... OK
* checking replacement functions ... OK
* checking foreign function calls ... OK
* checking R code for possible problems ... NOTE
batchFilter: no visible global function definition for 't.test'
batchFilter: no visible global function definition for 'points'
batchFilter: no visible global function definition for 'abline'
batchFilter: no visible global function definition for 'write.table'
batchFilter: no visible global function definition for 'tiff'
batchFilter: no visible global function definition for 'dev.off'
batchFilter.anova: no visible global function definition for 'combn'
batchFilter.anova: no visible global function definition for
  'oneway.test'
batchFilter.anova: no visible global function definition for 'points'
batchFilter.anova: no visible global function definition for 'abline'
batchFilter.anova: no visible global function definition for
  'write.table'
batchFilter.anova: no visible global function definition for 'tiff'
batchFilter.anova: no visible global function definition for 'dev.off'
classify.svm.ensemble: no visible global function definition for
  'predict'
classify.svm.ensemble: no visible global function definition for 'tiff'
classify.svm.ensemble: no visible global function definition for
  'dev.off'
diffAnalysis: no visible global function definition for 't.test'
diffAnalysis: no visible global function definition for 'median'
diffAnalysis: no visible global function definition for 'sd'
diffAnalysis: no visible global function definition for 'p.adjust'
diffAnalysis: no visible global function definition for 'write.table'
final.classify.rf: no visible global function definition for 'predict'
final.classify.rf: no visible global function definition for 'tiff'
final.classify.rf: no visible global function definition for 'dev.off'
final.classify.svm: no visible global function definition for 'predict'
final.classify.svm: no visible global function definition for 'tiff'
final.classify.svm: no visible global function definition for 'dev.off'
normalizeRLM: no visible global function definition for 'rnorm'
normalizeRLM: no visible global function definition for 'tiff'
normalizeRLM: no visible global function definition for 'boxplot'
normalizeRLM: no visible global function definition for 'dev.off'
plotArray: no visible global function definition for 'par'
plotArrayPng: no visible global function definition for 'png'
plotArrayPng: no visible global function definition for 'dev.off'
plotArrayTiff: no visible global function definition for 'tiff'
plotArrayTiff: no visible global function definition for 'dev.off'
plotFeatures: no visible global function definition for 'tiff'
plotFeatures: no visible global function definition for 'par'
plotFeatures: no visible global function definition for 'axis'
plotFeatures: no visible global function definition for 'box'
plotFeatures: no visible global function definition for 'points'
plotFeatures: no visible global function definition for 'legend'
plotFeatures: no visible global function definition for 'dev.off'
plotFeaturesHeatmap: no visible global function definition for
  'na.exclude'
plotFeaturesHeatmap : my.dist: no visible global function definition
  for 'as.dist'
plotFeaturesHeatmap : my.dist: no visible global function definition
  for 'cor'
plotFeaturesHeatmap : my.hclust: no visible global function definition
  for 'hclust'
plotFeaturesHeatmap: no visible global function definition for 'tiff'
plotFeaturesHeatmap: no visible global function definition for
  'heatmap'
plotFeaturesHeatmap: no visible global function definition for
  'dev.off'
plotFeaturesHeatmap.2: no visible global function definition for
  'na.exclude'
plotFeaturesHeatmap.2 : my.dist: no visible global function definition
  for 'as.dist'
plotFeaturesHeatmap.2 : my.dist: no visible global function definition
  for 'cor'
plotFeaturesHeatmap.2: no visible global function definition for 'png'
plotFeaturesHeatmap.2 : <anonymous>: no visible global function
  definition for 'as.dist'
plotFeaturesHeatmap.2 : <anonymous>: no visible global function
  definition for 'cor'
plotFeaturesHeatmap.2: no visible global function definition for 'par'
plotFeaturesHeatmap.2: no visible global function definition for
  'legend'
plotFeaturesHeatmap.2: no visible global function definition for
  'dev.off'
plotMAPlots: no visible binding for global variable 'median'
plotMAPlots: no visible global function definition for 'tiff'
plotMAPlots: no visible global function definition for 'par'
plotMAPlots: no visible global function definition for 'abline'
plotMAPlots: no visible global function definition for 'lines'
plotMAPlots: no visible global function definition for 'lowess'
plotMAPlots: no visible global function definition for 'dev.off'
plotNormMethods: no visible global function definition for 'par'
plotNormMethods: no visible global function definition for 'boxplot'
plotNormMethods: no visible global function definition for 'dev.off'
plotNormMethods: no visible global function definition for 'tiff'
printFeatures: no visible global function definition for 'write.table'
pvaluePlot: no visible global function definition for 't.test'
pvaluePlot: no visible global function definition for 'p.adjust'
pvaluePlot: no visible global function definition for 'abline'
pvaluePlot: no visible global function definition for 'legend'
pvaluePlot: no visible global function definition for 'tiff'
pvaluePlot: no visible global function definition for 'dev.off'
rj.rfe: no visible global function definition for 'write.table'
rj.rfe: no visible global function definition for 'read.table'
selectFeatures.ensemble: no visible global function definition for
  'write.table'
selectFeatures.frequency.cv: no visible global function definition for
  'write.table'
selectFeatures.frequency.cv: no visible global function definition for
  'read.table'
selectFeatures.frequency.cv: no visible global function definition for
  'tiff'
selectFeatures.frequency.cv: no visible global function definition for
  'title'
selectFeatures.frequency.cv: no visible global function definition for
  'dev.off'
selectFeatures.frequency.cv: no visible global function definition for
  'na.omit'
svm.rfe: no visible global function definition for 'predict'
tTest: no visible global function definition for 't.test'
tTestFS: no visible global function definition for 't.test'
volcanoPlot: no visible global function definition for 't.test'
volcanoPlot: no visible global function definition for 'tiff'
volcanoPlot: no visible global function definition for 'dev.off'
volcanoPlot: no visible global function definition for 'points'
volcanoPlot: no visible global function definition for 'abline'
Undefined global functions or variables:
  abline as.dist axis box boxplot combn cor dev.off hclust heatmap
  legend lines lowess median na.exclude na.omit oneway.test p.adjust
  par png points predict read.table rnorm sd t.test tiff title
  write.table
Consider adding
  importFrom("grDevices", "dev.off", "png", "tiff")
  importFrom("graphics", "abline", "axis", "box", "boxplot", "legend",
             "lines", "par", "points", "title")
  importFrom("stats", "as.dist", "cor", "hclust", "heatmap", "lowess",
             "median", "na.exclude", "na.omit", "oneway.test",
             "p.adjust", "predict", "rnorm", "sd", "t.test")
  importFrom("utils", "combn", "read.table", "write.table")
to your NAMESPACE file.
* checking Rd files ... OK
* checking Rd metadata ... OK
* checking Rd cross-references ... OK
* checking for missing documentation entries ... OK
* checking for code/documentation mismatches ... OK
* checking Rd \usage sections ... OK
* checking Rd contents ... OK
* checking for unstated dependencies in examples ... OK
* checking line endings in C/C++/Fortran sources/headers ... OK
* checking line endings in Makefiles ... OK
* checking compilation flags in Makevars ... OK
* checking for GNU extensions in Makefiles ... OK
* checking for portable use of $(BLAS_LIBS) and $(LAPACK_LIBS) ... OK
* checking use of PKG_*FLAGS in Makefiles ... OK
* checking compiled code ... NOTE
Note: information on .o files for x64 is not available
File 'D:/biocbuild/bbs-3.15-bioc/R/library/PAA/libs/x64/PAA.dll':
  Found 'abort', possibly from 'abort' (C), 'runtime' (Fortran)
  Found 'exit', possibly from 'exit' (C), 'stop' (Fortran)
  Found 'printf', possibly from 'printf' (C)

Compiled code should not call entry points which might terminate R nor
write to stdout/stderr instead of to the console, nor use Fortran I/O
nor system RNGs. The detected symbols are linked into the code but
might come from libraries and not actually be called.

See 'Writing portable packages' in the 'Writing R Extensions' manual.
* checking installed files from 'inst/doc' ... OK
* checking files in 'vignettes' ... OK
* checking examples ... OK
* checking for unstated dependencies in 'tests' ... OK
* checking tests ...
  Running 'runTests.R'
 OK
* checking for unstated dependencies in vignettes ... OK
* checking package vignettes in 'inst/doc' ... OK
* checking running R code from vignettes ... SKIPPED
* checking re-building of vignette outputs ... SKIPPED
* checking PDF version of manual ... OK
* DONE

Status: 4 NOTEs
See
  'D:/biocbuild/bbs-3.15-bioc/meat/PAA.Rcheck/00check.log'
for details.



Installation output

PAA.Rcheck/00install.out

##############################################################################
##############################################################################
###
### Running command:
###
###   C:\cygwin\bin\curl.exe -O http://155.52.207.165/BBS/3.15/bioc/src/contrib/PAA_1.29.0.tar.gz && rm -rf PAA.buildbin-libdir && mkdir PAA.buildbin-libdir && D:\biocbuild\bbs-3.15-bioc\R\bin\R.exe CMD INSTALL --merge-multiarch --build --library=PAA.buildbin-libdir PAA_1.29.0.tar.gz && D:\biocbuild\bbs-3.15-bioc\R\bin\R.exe CMD INSTALL PAA_1.29.0.zip && rm PAA_1.29.0.tar.gz PAA_1.29.0.zip
###
##############################################################################
##############################################################################


  % Total    % Received % Xferd  Average Speed   Time    Time     Time  Current
                                 Dload  Upload   Total   Spent    Left  Speed

  0     0    0     0    0     0      0      0 --:--:-- --:--:-- --:--:--     0
 99 2986k   99 2964k    0     0  4751k      0 --:--:-- --:--:-- --:--:-- 4743k
100 2986k  100 2986k    0     0  4756k      0 --:--:-- --:--:-- --:--:-- 4748k
only one architecture so ignoring '--merge-multiarch'
* installing *source* package 'PAA' ...
** using staged installation
** libs
"C:/rtools40/mingw64/bin/"gcc  -I"D:/biocbuild/bbs-3.15-bioc/R/include" -DNDEBUG  -I'D:/biocbuild/bbs-3.15-bioc/R/library/Rcpp/include'   -I"C:/extsoft/include"     -O2 -Wall  -std=gnu99 -mfpmath=sse -msse2 -mstackrealign -fno-reorder-blocks-and-partition  -c PAA_init.c -o PAA_init.o
"C:/rtools40/mingw64/bin/"g++ -std=gnu++11  -I"D:/biocbuild/bbs-3.15-bioc/R/include" -DNDEBUG  -I'D:/biocbuild/bbs-3.15-bioc/R/library/Rcpp/include'   -I"C:/extsoft/include"     -O2 -Wall  -mfpmath=sse -msse2 -mstackrealign -fno-reorder-blocks-and-partition  -c RcppExports.cpp -o RcppExports.o
"C:/rtools40/mingw64/bin/"g++ -std=gnu++11  -I"D:/biocbuild/bbs-3.15-bioc/R/include" -DNDEBUG  -I'D:/biocbuild/bbs-3.15-bioc/R/library/Rcpp/include'   -I"C:/extsoft/include"     -O2 -Wall  -mfpmath=sse -msse2 -mstackrealign -fno-reorder-blocks-and-partition  -c joinMCountResults.cpp -o joinMCountResults.o
"C:/rtools40/mingw64/bin/"g++ -std=gnu++11  -I"D:/biocbuild/bbs-3.15-bioc/R/include" -DNDEBUG  -I'D:/biocbuild/bbs-3.15-bioc/R/library/Rcpp/include'   -I"C:/extsoft/include"     -O2 -Wall  -mfpmath=sse -msse2 -mstackrealign -fno-reorder-blocks-and-partition  -c mCount.cpp -o mCount.o
"C:/rtools40/mingw64/bin/"g++ -std=gnu++11  -I"D:/biocbuild/bbs-3.15-bioc/R/include" -DNDEBUG  -I'D:/biocbuild/bbs-3.15-bioc/R/library/Rcpp/include'   -I"C:/extsoft/include"     -O2 -Wall  -mfpmath=sse -msse2 -mstackrealign -fno-reorder-blocks-and-partition  -c mMsMatrix.cpp -o mMsMatrix.o
"C:/rtools40/mingw64/bin/"g++ -std=gnu++11  -I"D:/biocbuild/bbs-3.15-bioc/R/include" -DNDEBUG  -I'D:/biocbuild/bbs-3.15-bioc/R/library/Rcpp/include'   -I"C:/extsoft/include"     -O2 -Wall  -mfpmath=sse -msse2 -mstackrealign -fno-reorder-blocks-and-partition  -c sampling.cpp -o sampling.o
C:/rtools40/mingw64/bin/g++ -std=gnu++11 -shared -s -static-libgcc -o PAA.dll tmp.def PAA_init.o RcppExports.o joinMCountResults.o mCount.o mMsMatrix.o sampling.o -LC:/extsoft/lib/x64 -LC:/extsoft/lib -LD:/biocbuild/bbs-3.15-bioc/R/bin/x64 -lR
installing to D:/biocbuild/bbs-3.15-bioc/meat/PAA.buildbin-libdir/00LOCK-PAA/00new/PAA/libs/x64
** R
** demo
** inst
** byte-compile and prepare package for lazy loading
** help
*** installing help indices
  converting help for package 'PAA'
    finding HTML links ... done
    batchAdjust                             html  
    batchFilter                             html  
    batchFilter.anova                       html  
    diffAnalysis                            html  
    loadGPR                                 html  
    mMsMatrix                               html  
    normalizeArrays                         html  
    plotArray                               html  
    plotFeatures                            html  
    plotFeaturesHeatmap.2                   html  
    plotFeaturesHeatmap                     html  
    plotMAPlots                             html  
    plotNormMethods                         html  
    preselect                               html  
    printFeatures                           html  
    pvaluePlot                              html  
    selectFeatures                          html  
    shuffleData                             html  
    volcanoPlot                             html  
** building package indices
** installing vignettes
** testing if installed package can be loaded from temporary location
** testing if installed package can be loaded from final location
** testing if installed package keeps a record of temporary installation path
* MD5 sums
packaged installation of 'PAA' as PAA_1.29.0.zip
* DONE (PAA)
* installing to library 'D:/biocbuild/bbs-3.15-bioc/R/library'
package 'PAA' successfully unpacked and MD5 sums checked

Tests output

PAA.Rcheck/tests/runTests.Rout


R Under development (unstable) (2021-11-21 r81221) -- "Unsuffered Consequences"
Copyright (C) 2021 The R Foundation for Statistical Computing
Platform: x86_64-w64-mingw32/x64 (64-bit)

R is free software and comes with ABSOLUTELY NO WARRANTY.
You are welcome to redistribute it under certain conditions.
Type 'license()' or 'licence()' for distribution details.

R is a collaborative project with many contributors.
Type 'contributors()' for more information and
'citation()' on how to cite R or R packages in publications.

Type 'demo()' for some demos, 'help()' for on-line help, or
'help.start()' for an HTML browser interface to help.
Type 'q()' to quit R.

> BiocGenerics:::testPackage("PAA")
Found2batches
Adjusting for1covariate(s) or covariate level(s)
Standardizing Data across genes
Fitting L/S model and finding priors
Finding parametric adjustments
Adjusting the Data

batchFilter - number of features to discard: 0

Read D:/biocbuild/bbs-3.15-bioc/R/library/PAA/extdata/dummy_GSM734833_PA41992_-_AD1.gpr 
Read D:/biocbuild/bbs-3.15-bioc/R/library/PAA/extdata/dummy_GSM734834_PA41994_-_AD2.gpr 
Read D:/biocbuild/bbs-3.15-bioc/R/library/PAA/extdata/dummy_GSM734835_PA42006_-AD3.gpr 
Read D:/biocbuild/bbs-3.15-bioc/R/library/PAA/extdata/dummy_GSM734836_PA42005_-_AD4.gpr 
Read D:/biocbuild/bbs-3.15-bioc/R/library/PAA/extdata/dummy_GSM734837_PA41957_-_AD5.gpr 
Read D:/biocbuild/bbs-3.15-bioc/R/library/PAA/extdata/dummy_GSM735203_PA42023_-_CO13.gpr 
Read D:/biocbuild/bbs-3.15-bioc/R/library/PAA/extdata/dummy_GSM735204_PA42025_-_CO14.gpr 
Read D:/biocbuild/bbs-3.15-bioc/R/library/PAA/extdata/dummy_GSM735205_PA42026_-_CO15.gpr 
Read D:/biocbuild/bbs-3.15-bioc/R/library/PAA/extdata/dummy_GSM735206_PA42028_-_CO16.gpr 
Read D:/biocbuild/bbs-3.15-bioc/R/library/PAA/extdata/dummy_GSM735207_PA42029_-_CO17.gpr 
No aggregation performed.


RUNIT TEST PROTOCOL -- Thu Nov 25 03:19:29 2021 
*********************************************** 
Number of test functions: 6 
Number of errors: 0 
Number of failures: 0 

 
1 Test Suite : 
PAA RUnit Tests - 6 test functions, 0 errors, 0 failures
Number of test functions: 6 
Number of errors: 0 
Number of failures: 0 
> 
> proc.time()
   user  system elapsed 
   5.29    0.31    5.59 

Example timings

PAA.Rcheck/PAA-Ex.timings

nameusersystemelapsed
batchAdjust0.560.060.62
batchFilter0.470.040.50
batchFilter.anova1.910.001.90
diffAnalysis0.720.040.77
loadGPR0.060.000.06
mMsMatrix000
normalizeArrays0.100.050.14
plotArray0.670.020.69
plotFeatures0.280.000.28
plotFeaturesHeatmap.20.300.030.33
plotFeaturesHeatmap0.170.030.20
plotMAPlots0.650.040.71
plotNormMethods0.390.020.40
preselect0.520.030.55
printFeatures0.280.000.28
pvaluePlot0.420.000.42
selectFeatures0.770.040.81
shuffleData0.150.000.16
volcanoPlot0.680.000.67