Back to Multiple platform build/check report for BioC 3.15
ABCDEFGHIJKLMNO[P]QRSTUVWXYZ

This page was generated on 2021-11-30 13:55:04 -0500 (Tue, 30 Nov 2021).

BUILD results for PAA on riesling1

To the developers/maintainers of the PAA package:
- Please allow up to 24 hours (and sometimes 48 hours) for your latest push to git@git.bioconductor.org:packages/PAA.git to
reflect on this report. See How and When does the builder pull? When will my changes propagate? here for more information.
- Make sure to use the following settings in order to reproduce any error or warning you see on this page.

raw results

Package 1348/2068HostnameOS / ArchINSTALLBUILDCHECKBUILD BIN
PAA 1.29.0  (landing page)
Michael Turewicz , Martin Eisenacher
Snapshot Date: 2021-11-29 14:50:17 -0500 (Mon, 29 Nov 2021)
git_url: https://git.bioconductor.org/packages/PAA
git_branch: master
git_last_commit: ed8ff09
git_last_commit_date: 2021-10-26 12:16:40 -0500 (Tue, 26 Oct 2021)
nebbiolo1Linux (Ubuntu 20.04.3 LTS) / x86_64  OK    OK    OK  UNNEEDED, same version is already published
riesling1Windows Server 2019 Standard / x64  OK    OK    OK    OK  
merida1macOS 10.14.6 Mojave / x86_64  OK    OK    OK    OK  UNNEEDED, same version is already published

Summary

Package: PAA
Version: 1.29.0
Command: chmod a+r PAA -R && D:\biocbuild\bbs-3.15-bioc\R\bin\R.exe CMD build --keep-empty-dirs --no-resave-data PAA
StartedAt: 2021-11-29 22:58:25 -0500 (Mon, 29 Nov 2021)
EndedAt: 2021-11-29 23:09:39 -0500 (Mon, 29 Nov 2021)
EllapsedTime: 674.1 seconds
RetCode: 0
Status:   OK  
PackageFile: PAA_1.29.0.tar.gz
PackageFileSize: 2.827 MiB

Command output

##############################################################################
##############################################################################
###
### Running command:
###
###   chmod a+r PAA -R && D:\biocbuild\bbs-3.15-bioc\R\bin\R.exe CMD build --keep-empty-dirs --no-resave-data PAA
###
##############################################################################
##############################################################################


* checking for file 'PAA/DESCRIPTION' ... OK
* preparing 'PAA':
* checking DESCRIPTION meta-information ... OK
* cleaning src
* installing the package to build vignettes
* creating vignettes ... OK
Warning: 'inst/doc' file
    'PAA_vignette.pdf'
  ignored as vignettes have been rebuilt.
  Run R CMD build with --no-build-vignettes to prevent rebuilding.
* cleaning src
* checking for LF line-endings in source and make files and shell scripts
* checking for empty or unneeded directories
* building 'PAA_1.29.0.tar.gz'