Index of /checkResults/devel/bioc-LATEST/PAA/raw-results

[ICO]NameLast modifiedSizeDescription

[DIR]Parent Directory  -  
[   ]info.dcf09-Dec-2022 01:10 310  
[DIR]merida1/09-Dec-2022 01:10 -  
[DIR]nebbiolo1/09-Dec-2022 01:06 -  
[DIR]palomino3/09-Dec-2022 01:08 -