Index of /checkResults/devel/bioc-LATEST/OrganismDbi/raw-results/nebbiolo2

[ICO]NameLast modifiedSizeDescription

[DIR]Parent Directory  -  
[TXT]buildsrc-out.txt01-Jul-2022 00:05 822  
[   ]buildsrc-summary.dcf01-Jul-2022 00:05 430  
[TXT]checksrc-out.txt01-Jul-2022 00:05 3.7K 
[   ]checksrc-summary.dcf01-Jul-2022 00:05 440  
[TXT]install-out.txt01-Jul-2022 00:05 959  
[   ]install-summary.dcf01-Jul-2022 00:05 267