Index of /checkResults/devel/bioc-LATEST/OrganismDbi/raw-results/lconway

[ICO]NameLast modifiedSizeDescription

[DIR]Parent Directory  -  
[   ]install-summary.dcf07-Aug-2022 00:08 277  
[TXT]install-out.txt07-Aug-2022 00:08 1.0K 
[   ]checksrc-summary.dcf07-Aug-2022 00:08 460  
[TXT]checksrc-out.txt07-Aug-2022 00:08 3.8K 
[   ]buildsrc-summary.dcf07-Aug-2022 00:08 437  
[TXT]buildsrc-out.txt07-Aug-2022 00:08 832  
[   ]buildbin-summary.dcf07-Aug-2022 00:08 552  
[TXT]buildbin-out.txt07-Aug-2022 00:08 1.2K