Index of /checkResults/devel/bioc-LATEST/Organism.dplyr/raw-results/palomino3

[ICO]NameLast modifiedSizeDescription

[DIR]Parent Directory  -  
[TXT]buildbin-out.txt29-Feb-2024 01:38 1.1K 
[   ]buildbin-summary.dcf29-Feb-2024 01:38 558  
[TXT]buildsrc-out.txt29-Feb-2024 01:38 874  
[   ]buildsrc-summary.dcf29-Feb-2024 01:38 481  
[TXT]checksrc-out.txt29-Feb-2024 01:38 3.7K 
[   ]checksrc-summary.dcf29-Feb-2024 01:38 475  
[TXT]install-out.txt29-Feb-2024 01:38 1.0K 
[   ]install-summary.dcf29-Feb-2024 01:38 282