Index of /checkResults/devel/bioc-LATEST/Organism.dplyr/raw-results/nebbiolo1

[ICO]NameLast modifiedSizeDescription

[DIR]Parent Directory  -  
[TXT]buildsrc-out.txt02-Mar-2024 01:36 834  
[   ]buildsrc-summary.dcf02-Mar-2024 01:36 439  
[TXT]checksrc-out.txt02-Mar-2024 01:36 3.7K 
[   ]checksrc-summary.dcf02-Mar-2024 01:36 443  
[TXT]install-out.txt02-Mar-2024 01:36 1.0K 
[   ]install-summary.dcf02-Mar-2024 01:36 273